BEGIN:VCALENDAR
VERSION:2.0
PRODID:-//ChamberMaster//Event Calendar 2.0//EN
METHOD:PUBLISH
X-PUBLISHED-TTL:P3D
REFRESH-INTERVAL:P3D
CALSCALE:GREGORIAN
BEGIN:VEVENT
DTSTART:20131203T150000Z
DTEND:20131203T160000Z
X-MICROSOFT-CDO-ALLDAYEVENT:FALSE
SUMMARY:Paulina Station Merchant Meeting
DESCRIPTION:The Lakeview Chamber invites Lincoln Avenue business owners and managers to come together to meet one another\, plan programming and set strategic goals for 2014.\n\n\n\nNote: Businesses on Lincoln Ave between Belmont and Addison are invited to this meeting.\n\n\n\nRSVP: info@lakeviewchamber.com | Open to Chamber members and non-members
X-ALT-DESC;FMTTYPE=text/html:The Lakeview Chamber invites Lincoln Avenue business owners and managers to come together to meet one another\, plan programming and set strategic goals for 2014.<br />\n<br />\nNote: Businesses on Lincoln Ave between Belmont and Addison are invited to this meeting.<br />\n<br />\nRSVP: info@lakeviewchamber.com | Open to Chamber members and non-members
LOCATION:Frasca Pizzeria 3358 N. Lincoln Ave
UID:e.1819.116
SEQUENCE:3
DTSTAMP:20260424T204705Z
URL:https://members.lakeviewroscoevillage.org/events/details/paulina-station-merchant-meeting-12-03-2013-116
END:VEVENT

END:VCALENDAR
