BEGIN:VCALENDAR
VERSION:2.0
PRODID:-//ChamberMaster//Event Calendar 2.0//EN
METHOD:PUBLISH
X-PUBLISHED-TTL:P3D
REFRESH-INTERVAL:P3D
CALSCALE:GREGORIAN
BEGIN:VEVENT
DTSTART:20131026T160000Z
DTEND:20131026T190000Z
X-MICROSOFT-CDO-ALLDAYEVENT:FALSE
SUMMARY:Paulina Station Merchants Halloween Walk for Kids
DESCRIPTION:The 14th Annual Paulina Station Merchants Halloween Walk for Kids!\n\nSponsored by Central Savings\, Alderman Scott Waguespack\, The Lakeview Chamber of Commerce\, Lakeview Newspaper\n\n\n\nFlyer
X-ALT-DESC;FMTTYPE=text/html:The 14th Annual Paulina Station Merchants Halloween Walk for Kids!<br />\nSponsored by Central Savings\, Alderman Scott Waguespack\, The Lakeview Chamber of Commerce\, Lakeview Newspaper<br />\n<br />\n<a href="http://cloud.chambermaster.com/userfiles/UserFiles/chambers/1819/File/Lakeview_newspaper_Halloween_poster2013.pdf">Flyer</a>
LOCATION:3300 and 3400 North Blocks of Lincoln and Paulina
UID:e.1819.100
SEQUENCE:3
DTSTAMP:20260425T002027Z
URL:https://members.lakeviewroscoevillage.org/events/details/paulina-station-merchants-halloween-walk-for-kids-10-26-2013-100
END:VEVENT

END:VCALENDAR
