BEGIN:VCALENDAR
VERSION:2.0
PRODID:-//ChamberMaster//Event Calendar 2.0//EN
METHOD:PUBLISH
X-PUBLISHED-TTL:P3D
REFRESH-INTERVAL:P3D
CALSCALE:GREGORIAN
BEGIN:VEVENT
DTSTART;VALUE=DATE:20140421
DTEND;VALUE=DATE:20140517
TRANSP:TRANSPARENT
X-MICROSOFT-CDO-ALLDAYEVENT:TRUE
SUMMARY:Payne Personal Training 2014 Spring Training Boot Camp
DESCRIPTION:Sign up now for the "No Payne\, No Gain" 4 WEEK CHALLENGE!\n\n(And get your FREE Payne Personal Training T-shirt!)
X-ALT-DESC;FMTTYPE=text/html:<span style="line-height:1.3em\;">Sign up now for the&nbsp\;&quot\;No Payne\, No Gain&quot\; 4 WEEK CHALLENGE!<br />\n(And get your FREE Payne Personal Training T-shirt!)</span>
LOCATION:Wrightwood Park (Northwest corner of park at Ashland & Wrightwood)
UID:e.1819.260
SEQUENCE:3
DTSTAMP:20260424T094657Z
URL:https://members.lakeviewroscoevillage.org/events/details/payne-personal-training-2014-spring-training-boot-camp-04-21-2014-260
END:VEVENT

END:VCALENDAR
