BEGIN:VCALENDAR
VERSION:2.0
PRODID:-//ChamberMaster//Event Calendar 2.0//EN
METHOD:PUBLISH
X-PUBLISHED-TTL:P3D
REFRESH-INTERVAL:P3D
CALSCALE:GREGORIAN
BEGIN:VEVENT
DTSTART:20160402T150000Z
DTEND:20160402T190000Z
X-MICROSOFT-CDO-ALLDAYEVENT:FALSE
SUMMARY:Peace Jubilee! Fun for the Whole Family
DESCRIPTION:Spring into Peace at the Peace School! Join us for free classes in Peace Yoga (10 am)\, Self-Defense (11 am) and Peace Breathing Meditation (11 am). Kids Corner includes face painting\, creative art projects\, fun with poetry and story time featuring the new book\, "Every Breath We Take". \n\nLend your voice to the Call to Peace (12:30 pm) sending peace and love to all countries of the world... as countries are named\, everyone answers the call saying\, "Peace in [each country\, from Afghanistan to Zimbabwe]". Inspiring and fun! Meet special guests from the Chicago Consular Corps and learn about Chicago's Peace Day activities. Tour the building\, enjoy refreshments and meet Peace School instructors and staff. All free!
X-ALT-DESC;FMTTYPE=text/html:<p>Spring into Peace at the Peace School! Join us for free classes in Peace Yoga (10 am)\, Self-Defense (11 am)&nbsp\;and Peace Breathing Meditation (11 am). Kids Corner&nbsp\;includes face painting\, creative art projects\, fun with poetry and story time featuring the new book\, &quot\;Every Breath We Take&quot\;.&nbsp\;</p>\n\n<p>Lend your voice to&nbsp\;the Call to Peace (12:30 pm) sending peace and love to all countries of the world... as countries are named\, everyone answers the call saying\, &quot\;Peace in [each country\, from Afghanistan to Zimbabwe]&quot\;. Inspiring and fun!&nbsp\;Meet special guests from the Chicago Consular Corps and learn about Chicago&#39\;s Peace Day activities. Tour the building\, enjoy refreshments&nbsp\;and meet Peace School instructors and staff. All free!<br />\n<br />\n&nbsp\;</p>\n
LOCATION:The Peace School\, 3121 North Lincoln Avenue\, Chicago 60657
UID:e.1819.2856
SEQUENCE:3
DTSTAMP:20260422T132901Z
URL:https://members.lakeviewroscoevillage.org/events/details/peace-jubilee-fun-for-the-whole-family-04-02-2016-2856
END:VEVENT

END:VCALENDAR
