BEGIN:VCALENDAR
VERSION:2.0
PRODID:-//ChamberMaster//Event Calendar 2.0//EN
METHOD:PUBLISH
X-PUBLISHED-TTL:P3D
REFRESH-INTERVAL:P3D
CALSCALE:GREGORIAN
BEGIN:VEVENT
DTSTART:20151024T173000Z
DTEND:20151024T180000Z
X-MICROSOFT-CDO-ALLDAYEVENT:FALSE
SUMMARY:Peace Pole Dedication Ceremony
DESCRIPTION:Join The Peace School in creating and celebrating peace in our community!
X-ALT-DESC;FMTTYPE=text/html:Join The Peace School in creating and celebrating peace in our community!<br />\n&nbsp\;
LOCATION:The Peace School\, 3121 N Lincoln Ave.\, Chicago
UID:e.1819.2035
SEQUENCE:3
DTSTAMP:20260423T001724Z
URL:https://members.lakeviewroscoevillage.org/events/details/peace-pole-dedication-ceremony-10-24-2015-2035
END:VEVENT

END:VCALENDAR
