BEGIN:VCALENDAR
VERSION:2.0
PRODID:-//ChamberMaster//Event Calendar 2.0//EN
METHOD:PUBLISH
X-PUBLISHED-TTL:P3D
REFRESH-INTERVAL:P3D
CALSCALE:GREGORIAN
BEGIN:VEVENT
DTSTART:20130912T000000Z
DTEND:20130912T013000Z
X-MICROSOFT-CDO-ALLDAYEVENT:FALSE
SUMMARY:Personal Safety Workshop
DESCRIPTION:Join Alderman Tom Tunney of the 44th ward at : Five Fingers of Self Defense\, A Personal Safety Workshop.\n\n\n\nFlyer
X-ALT-DESC;FMTTYPE=text/html:Join Alderman Tom Tunney of the 44th ward at : Five Fingers of Self Defense\, A Personal Safety Workshop.<br />\n<br />\n<a href="http://cloud.chambermaster.com/userfiles/UserFiles/chambers/1819/File/2013SDCommWorkshop-Sept11-color.pdf">Flyer</a>
LOCATION:Thousand Waves Martial Arts & Defense Center 1220 W. Belmont Ave
UID:e.1819.35
SEQUENCE:3
DTSTAMP:20260425T003803Z
URL:https://members.lakeviewroscoevillage.org/events/details/personal-safety-workshop-09-11-2013-35
END:VEVENT

END:VCALENDAR
