BEGIN:VCALENDAR
VERSION:2.0
PRODID:-//ChamberMaster//Event Calendar 2.0//EN
METHOD:PUBLISH
X-PUBLISHED-TTL:P3D
REFRESH-INTERVAL:P3D
CALSCALE:GREGORIAN
BEGIN:VEVENT
DTSTART:20161210T210000Z
DTEND:20161210T230000Z
X-MICROSOFT-CDO-ALLDAYEVENT:FALSE
SUMMARY:Photos with Santa
DESCRIPTION:Gather the whole family and snap a photo with Santa. Photos will be sent via email by Christmas. Photography sponsored by A Little Photo Studio with additional support from Arthur Murray Lakeview. Lakeview Gift Cards will also be available for purchase.\n\n\n\nPLEASE NOTE: We have reached capacity and will only be able to accommodate families who have already pre-registered for the event. Thank you!
X-ALT-DESC;FMTTYPE=text/html:Gather the whole family and snap a photo with Santa. Photos will be sent via email by Christmas.&nbsp\;Photography sponsored by <a href="http://www.alittlephotostudio.com" target="_blank">A Little Photo Studio</a> with additional support from <a href="http://lakeviewarthurmurray.com" target="_blank">Arthur Murray Lakeview</a>. <a href="http://www.shopdinelakeview.com">Lakeview Gift Cards</a> will also be available for purchase.<br />\n<br />\nPLEASE NOTE:&nbsp\;We have reached capacity and will only be able to accommodate families who have already pre-registered for the event. Thank you!
LOCATION:Arthur Murray Lakeview 3301 N. Lincoln Ave.
UID:e.1819.4859
SEQUENCE:3
DTSTAMP:20260420T063329Z
URL:https://members.lakeviewroscoevillage.org/events/details/photos-with-santa-12-10-2016-4859
END:VEVENT

END:VCALENDAR
