BEGIN:VCALENDAR
VERSION:2.0
PRODID:-//ChamberMaster//Event Calendar 2.0//EN
METHOD:PUBLISH
X-PUBLISHED-TTL:P3D
REFRESH-INTERVAL:P3D
CALSCALE:GREGORIAN
BEGIN:VEVENT
DTSTART;VALUE=DATE:20161203
DTEND;VALUE=DATE:20161204
TRANSP:TRANSPARENT
X-MICROSOFT-CDO-ALLDAYEVENT:TRUE
SUMMARY:Pictures with Santa Paws
DESCRIPTION:Pictures with Santa Paws on December 3-4. We're partnering with Dogaholics and Fetch Portraits to raise money for Chicago Canine Rescue!
X-ALT-DESC;FMTTYPE=text/html:<span style="color: rgb(0\, 0\, 0)\; font-family: Arial\; white-space: pre-wrap\;">Pictures with Santa Paws on December 3-4. We&#39\;re partnering with Dogaholics and Fetch Portraits to raise money for Chicago Canine Rescue! </span>
LOCATION:
UID:e.1819.4868
SEQUENCE:3
DTSTAMP:20260420T051119Z
URL:https://members.lakeviewroscoevillage.org/events/details/pictures-with-santa-paws-12-03-2016-4868
END:VEVENT

END:VCALENDAR
