BEGIN:VCALENDAR
VERSION:2.0
PRODID:-//ChamberMaster//Event Calendar 2.0//EN
METHOD:PUBLISH
X-PUBLISHED-TTL:P3D
REFRESH-INTERVAL:P3D
CALSCALE:GREGORIAN
BEGIN:VEVENT
DTSTART:20171118T030000Z
DTEND:20171118T060000Z
X-MICROSOFT-CDO-ALLDAYEVENT:FALSE
SUMMARY:Pink Friday- Midnight Madness Sale
DESCRIPTION:Midnight Madness Sale! Pink Friday! The Friday before Black Friday AND at night! Take 25% off 9pm-10pm\, 30% off 10pm - 11pm and take 40% off 11pm - 12am! Come in your pjs\, come after dinner\, come after the bars - just get here!
X-ALT-DESC;FMTTYPE=text/html:Midnight Madness Sale! Pink Friday! The Friday before Black Friday AND at night! Take 25% off 9pm-10pm\, 30% off 10pm - 11pm and take 40% off 11pm - 12am! Come in your pjs\, come after dinner\, come after the bars - just get here!
LOCATION:M2 Boutique 3527 N. Southport
UID:e.1819.11186
SEQUENCE:3
DTSTAMP:20260419T142713Z
URL:https://members.lakeviewroscoevillage.org/events/details/pink-friday-midnight-madness-sale-11-17-2017-11186
END:VEVENT

END:VCALENDAR
