BEGIN:VCALENDAR
VERSION:2.0
PRODID:-//ChamberMaster//Event Calendar 2.0//EN
METHOD:PUBLISH
X-PUBLISHED-TTL:P3D
REFRESH-INTERVAL:P3D
CALSCALE:GREGORIAN
BEGIN:VEVENT
DTSTART:20161206T140000Z
DTEND:20161206T150000Z
X-MICROSOFT-CDO-ALLDAYEVENT:FALSE
SUMMARY:Placemaking Committee Meeting
DESCRIPTION:The Placemaking Committee advances SSA 27's mission of improving and enhancing public spaces and creating memorable experiences within the service area. For more information\, click here.
X-ALT-DESC;FMTTYPE=text/html:The&nbsp\;Placemaking&nbsp\;Committee advances SSA 27&rsquo\;s mission of improving and enhancing public spaces and creating memorable experiences within the service area. For more information\, click&nbsp\;<a href="http://www.lakeviewchamber.com/ssa27">here</a>.
LOCATION:Lakeview Chamber of Commerce 1409 W. Addison St.
UID:e.1819.4869
SEQUENCE:3
DTSTAMP:20260420T063231Z
URL:https://members.lakeviewroscoevillage.org/events/details/placemaking-committee-meeting-12-06-2016-4869
END:VEVENT

END:VCALENDAR
