BEGIN:VCALENDAR
VERSION:2.0
PRODID:-//ChamberMaster//Event Calendar 2.0//EN
METHOD:PUBLISH
X-PUBLISHED-TTL:P3D
REFRESH-INTERVAL:P3D
CALSCALE:GREGORIAN
BEGIN:VEVENT
DTSTART:20140918T220000Z
DTEND:20140919T010000Z
X-MICROSOFT-CDO-ALLDAYEVENT:FALSE
SUMMARY:Please Join Green City Market & Jayson Home + Rick Bayless\, Carrie Nahabedian &
DESCRIPTION:Join The Green City Market and Jayson Home as they welcome Rick Bayless\, Carrie Nahabedian\, and Bruce Sherman. Meet the chefs\, taste their recipes (featuring seasonal ingredients from market farmers)\, drink complimentary wine from Binny?s Beverage Depot\, and shop knowing that 10% of the evening?s sales will go to The Green City Market. Copies of The Green City Market Cookbook will be available for sale and chefs Rick Bayless (Frontera Grill\, Topolobampo\, Xoco)\, Carrie Nahabedian (Naha\, Brindille)\, and Bruce Sherman (North Pond) will be signing copies. Don?t miss it!
X-ALT-DESC;FMTTYPE=text/html:Join The Green City Market and Jayson Home as they welcome Rick Bayless\, Carrie Nahabedian\, and Bruce Sherman. Meet the chefs\, taste their recipes (featuring seasonal ingredients from market farmers)\, drink complimentary wine from Binny?s Beverage Depot\, and shop knowing that 10% of the evening?s sales will go to The Green City Market. Copies of The Green City Market Cookbook will be available for sale and chefs Rick Bayless (Frontera Grill\, Topolobampo\, Xoco)\, Carrie Nahabedian (Naha\, Brindille)\, and Bruce Sherman (North Pond) will be signing copies. Don?t miss it!
LOCATION:Jayson Home 1885 N. Clybourn Ave. Chicago\, IL 60614
UID:e.1819.491
SEQUENCE:3
DTSTAMP:20260424T003033Z
URL:https://members.lakeviewroscoevillage.org/events/details/please-join-green-city-market-jayson-home-rick-bayless-carrie-nahabedian-09-18-2014-491
END:VEVENT

END:VCALENDAR
