BEGIN:VCALENDAR
VERSION:2.0
PRODID:-//ChamberMaster//Event Calendar 2.0//EN
METHOD:PUBLISH
X-PUBLISHED-TTL:P3D
REFRESH-INTERVAL:P3D
CALSCALE:GREGORIAN
BEGIN:VEVENT
DTSTART:20180101T020000Z
DTEND:20180101T070000Z
X-MICROSOFT-CDO-ALLDAYEVENT:FALSE
SUMMARY:Pony Inn New Years Eve
DESCRIPTION:Say goodbye to 2017 and hello to 2018 at The Pony Inn! Live DJ\, five hour meal & drink package\, party favors and more!
X-ALT-DESC;FMTTYPE=text/html:<span style="color: rgb(68\, 68\, 68)\; font-family: &quot\;Helvetica Neue&quot\;\, HelveticaNeue\, Helvetica\, Arial\, sans-serif\; font-size: 14px\;">Say goodbye to 2017 and hello to 2018 at The Pony Inn! Live DJ\, five hour meal &amp\; drink package\, party favors and more!&nbsp\;</span>
LOCATION:The Pony Inn 1638 W Belmont
UID:e.1819.11251
SEQUENCE:3
DTSTAMP:20260419T124447Z
URL:https://members.lakeviewroscoevillage.org/events/details/pony-inn-new-years-eve-12-31-2017-11251
END:VEVENT

END:VCALENDAR
