BEGIN:VCALENDAR
VERSION:2.0
PRODID:-//ChamberMaster//Event Calendar 2.0//EN
METHOD:PUBLISH
X-PUBLISHED-TTL:P3D
REFRESH-INTERVAL:P3D
CALSCALE:GREGORIAN
BEGIN:VEVENT
DTSTART:20161210T010000Z
DTEND:20161210T040000Z
X-MICROSOFT-CDO-ALLDAYEVENT:FALSE
SUMMARY:Pop-Up Glass Painting Party at Koval! *w/ Whiskey tasting!*
DESCRIPTION:Bottle & Bottega is up to some WHISKEY business this holiday season... join us at KOVAL Distillery (5121 N Ravenswood Ave) as we gather to paint rocks drink glasses & sip tasty KOVAL spirits!\n\n\n\nTicket price includes a tasting of KOVAL's spirits\, all paint supplies\, instruction\, aprons\, and two highball glasses you'll paint and take home! Note: in addition to straight whiskey samples\, KOVAL will also be providing samples of mixed drink cocktails with take home recipe sheets!\n\n7:00pm -7:30pm Reception\n\n7:30pm - 10:00pm Painting  \n\n-The first 30 minutes of the event is the time to settle in and have our cocktail receiption! Because this event is at a distillery\, it is not BYOB. You will receive 10% off any KOVAL products! \n\n\n\nREGISTER HERE: https://sites.cimplebox.com/events/event.aspx?s=3291&c=1650&eid=263631&r=0.2452287\n\nCancellations: Cancellations made within 48 hours are subject only to a credit. We are sorry but there will be no refunds on no-shows.\n\nAlcohol: Because alcohol is present during our events\, we restrict attendance to adults 18 and over. Alcohol consumption is permitted only for adults over 21. Please have an ID available. \n\nImages: Feel like going rogue? The instructor will teach the image featured on the calendar step by step\, but they are happy to answer questions if you choose to paint something else. NOT recommended for beginners.\n\nEvent Minimums: This event needs 10 registrations to run. We will reach out prior to the event if there is a chance of cancellation.
X-ALT-DESC;FMTTYPE=text/html:<div><span style="background-color:transparent\; color:rgb(0\, 0\, 0)\; font-family:lato\,sans-serif">Bottle &amp\; Bottega is up to some WHISKEY business this holiday season... join us at&nbsp\;</span><strong style="background:transparent\; border:0px\; color:rgb(255\, 255\, 255)\; font-family:lato\,sans-serif\; margin:0px\; padding:0px\; vertical-align:baseline"><a href="http://www.koval-distillery.com/newsite/" style="color: rgb(244\, 198\, 40)\; text-decoration: none\; background: transparent\; border: 0px\; margin: 0px\; padding: 0px\; vertical-align: baseline\; outline: none\;"><span style="color:#000000">KOVAL Distillery</span></a></strong><span style="background-color:transparent\; color:rgb(0\, 0\, 0)\; font-family:lato\,sans-serif">&nbsp\;(<span style="background:transparent\; border:0px\; margin:0px\; padding:0px\; vertical-align:baseline">5121 N Ravenswood Ave</span>) as we gather to paint rocks drink glasses &amp\; sip tasty KOVAL spirits!</span></div>\n\n<p style="background: transparent\; border: 0px\; margin: 0px 0px 24px\; padding: 0px\; vertical-align: baseline\; color: rgb(255\, 255\, 255)\; font-family: Lato\, sans-serif\;"><br />\n<span style="color:#000000">Ticket price includes a tasting of KOVAL&#39\;s spirits\,&nbsp\;all paint supplies\, instruction\, aprons\, and&nbsp\;<strong style="background:transparent\; border:0px\; margin:0px\; padding:0px\; vertical-align:baseline">two&nbsp\;</strong>highball glasses you&#39\;ll paint and take home!&nbsp\;<strong style="background:transparent\; border:0px\; margin:0px\; padding:0px\; vertical-align:baseline">Note</strong>: in addition to straight whiskey samples\, KOVAL will also be providing samples of mixed drink cocktails with take home recipe sheets!</span></p>\n\n<p style="background: transparent\; border: 0px\; margin: 0px 0px 24px\; padding: 0px\; vertical-align: baseline\; color: rgb(255\, 255\, 255)\; font-family: Lato\, sans-serif\;"><span style="color:#000000"><strong style="background:transparent\; border:0px\; margin:0px\; padding:0px\; vertical-align:baseline">7:00pm -7:30pm&nbsp\;</strong>Reception<br />\n<strong style="background:transparent\; border:0px\; margin:0px\; padding:0px\; vertical-align:baseline">7:30pm&nbsp\;- 10:00pm&nbsp\;</strong>Painting &nbsp\;</span></p>\n\n<p style="background: transparent\; border: 0px\; margin: 0px 0px 24px\; padding: 0px\; vertical-align: baseline\;"><span style="color:rgb(0\, 0\, 0)\; font-family:lato\,sans-serif">-The first 30 minutes of the event is the time to&nbsp\;settle in and have our cocktail receiption! Because this event is at a distillery\, it is not BYOB. You will receive 10% off any KOVAL products!&nbsp\;<br />\n<br />\n<strong>REGISTER HERE:</strong>&nbsp\;</span><a href="https://sites.cimplebox.com/events/event.aspx?s=3291&amp\;c=1650&amp\;eid=263631&amp\;r=0.2452287"><font color="#000000" face="Lato\, sans-serif">https://sites.cimplebox.com/events/event.aspx?s=3291&amp\;c=1650&amp\;eid=263631&amp\;r=0.2452287</font></a></p>\n\n<p style="background: transparent\; border: 0px\; margin: 0px 0px 24px\; padding: 0px\; vertical-align: baseline\; color: rgb(255\, 255\, 255)\; font-family: Lato\, sans-serif\;"><span style="color:#000000"><strong style="background:transparent\; border:0px\; margin:0px\; padding:0px\; vertical-align:baseline">Cancellations:</strong>&nbsp\;Cancellations made within 48 hours are subject only to a credit. We are sorry but there will be no refunds on no-shows.</span><br />\n<strong style="background:transparent\; border:0px\; color:rgb(0\, 0\, 0)\; margin:0px\; padding:0px\; vertical-align:baseline">Alcohol:</strong><span style="background-color:transparent\; color:rgb(0\, 0\, 0)">&nbsp\;Because alcohol is present during our events\, we restrict attendance to adults 18 and over. Alcohol consumption is permitted only for adults over 21. Please have an ID available.&nbsp\;</span><br />\n<strong style="background:transparent\; border:0px\; color:rgb(0\, 0\, 0)\; margin:0px\; padding:0px\; vertical-align:baseline">Images:</strong><span style="background-color:transparent\; color:rgb(0\, 0\, 0)">&nbsp\;Feel like going rogue? The instructor will teach the image featured on the calendar step by step\, but they are happy to answer questions if you choose to paint something else. NOT recommended for beginners.</span><br />\n<strong style="background:transparent\; border:0px\; color:rgb(0\, 0\, 0)\; margin:0px\; padding:0px\; vertical-align:baseline">Event Minimums:</strong><span style="background-color:transparent\; color:rgb(0\, 0\, 0)">&nbsp\;This event needs 10 registrations to run. We will reach out&nbsp\;prior to the event if there is a chance of cancellation.</span></p>\n
LOCATION:KOVAL Distillery 5121 N Ravenswood Ave Chicago\, IL 60640
UID:e.1819.4844
SEQUENCE:3
DTSTAMP:20260420T050230Z
URL:https://members.lakeviewroscoevillage.org/events/details/pop-up-glass-painting-party-at-koval-w-whiskey-tasting-12-09-2016-4844
END:VEVENT

END:VCALENDAR
