BEGIN:VCALENDAR
VERSION:2.0
PRODID:-//ChamberMaster//Event Calendar 2.0//EN
METHOD:PUBLISH
X-PUBLISHED-TTL:P3D
REFRESH-INTERVAL:P3D
CALSCALE:GREGORIAN
BEGIN:VEVENT
DTSTART:20140220T010000Z
DTEND:20140220T030000Z
X-MICROSOFT-CDO-ALLDAYEVENT:FALSE
SUMMARY:Prenatal Breastfeeding Class at IL Masonic
DESCRIPTION:Pregnancy/Newborn Care / Illinois Masonic Med Ctr\n\n				Prenatal Breastfeeding Class \n			\n				 \n		\n		\n			\n				\n\n				Designed for the mother-to-be and her partner\, this class covers nutrition\, breast pumps\, milk storage\, and positioning. It helps you to make an informed choice for infant feeding and nutrition.\n\n				\n\n				It is offered once a month on a Wednesday evening from 7:00pm-9:00pm. The cost is $30 per couple and registration with payment is required.\n\n				\n\n				This class is held at The Advocate Illinois Masonic Medical Center 836 W Wellington Ave\, Chicago\, IL 60657. Please stop at the information desk located in the main lobby for room location. Registration is required.\n\n				\n\n				REFUND POLICY. Cancellations will be accepted up to 24 hours prior to the class for a refund\, minus a 25% non-refundable cancellation fee. No refunds after this date. Refund requests for medical or family emergencies must be received within 7 days of class start date.
X-ALT-DESC;FMTTYPE=text/html:<table border="0" cellpadding="2" cellspacing="0" width="100%">\n	<tbody>\n		<tr>\n			<td colspan="3" valign="top">\n				<span class="pubbold">Pregnancy/Newborn Care / Illinois Masonic Med Ctr</span><!--end pubbold--><br />\n				<span class="pubboldcolor2">Prenatal Breastfeeding Class </span><!--end pubboldcolor2--></td>\n			<td valign="top">\n				&nbsp\;</td>\n		</tr>\n		<tr>\n			<td colspan="4">\n				<br />\n				<span class="pubbody">Designed for the mother-to-be and her partner\, this class covers nutrition\, breast pumps\, milk storage\, and positioning. It helps you to make an informed choice for infant feeding and nutrition.<br />\n				<br />\n				It is offered once a month on a Wednesday evening from 7:00pm-9:00pm. The cost is $30 per couple and registration with payment is required.<br />\n				<br />\n				This class is held at The Advocate Illinois Masonic Medical Center 836 W Wellington Ave\, Chicago\, IL 60657. Please stop at the information desk located in the main lobby for room location. Registration is required.<br />\n				<br />\n				REFUND POLICY. Cancellations will be accepted up to 24 hours prior to the class for a refund\, minus a 25% non-refundable cancellation fee. No refunds after this date. Refund requests for medical or family emergencies must be received within 7 days of class start date.</span></td>\n		</tr>\n	</tbody>\n</table>\n
LOCATION:Advocate Illinois Masonic Medical Center 836 W Wellington Ave\, Chicago\, IL 60657
UID:e.1819.164
SEQUENCE:3
DTSTAMP:20260424T154353Z
URL:https://members.lakeviewroscoevillage.org/events/details/prenatal-breastfeeding-class-at-il-masonic-02-19-2014-164
END:VEVENT

END:VCALENDAR
