BEGIN:VCALENDAR
VERSION:2.0
PRODID:-//ChamberMaster//Event Calendar 2.0//EN
METHOD:PUBLISH
X-PUBLISHED-TTL:P3D
REFRESH-INTERVAL:P3D
CALSCALE:GREGORIAN
BEGIN:VEVENT
DTSTART:20131121T003000Z
DTEND:20131121T023000Z
X-MICROSOFT-CDO-ALLDAYEVENT:FALSE
SUMMARY:Presenting Chicago by Chicago Artists
DESCRIPTION:Southport and Irving Restaurant with S.I.P. is presenting works on Chicago by Chicago artists. View wonderful works of art while enjoying our Opening Reception special- $10 burger/fries/draft beer for dinner. It's sure to be a great night!
X-ALT-DESC;FMTTYPE=text/html:Southport and Irving Restaurant with S.I.P. is presenting works on Chicago by Chicago artists.&nbsp\;View wonderful works of art while enjoying our Opening Reception special- $10 burger/fries/draft beer for dinner. It&#39\;s sure to be a great night!
LOCATION:Southport and Irving Restaurant and S.I.P. Lounge 4004 N. Southport Avenue Chicago\, IL 60613
UID:e.1819.117
SEQUENCE:3
DTSTAMP:20260424T222433Z
URL:https://members.lakeviewroscoevillage.org/events/details/presenting-chicago-by-chicago-artists-11-20-2013-117
END:VEVENT

END:VCALENDAR
