BEGIN:VCALENDAR
VERSION:2.0
PRODID:-//ChamberMaster//Event Calendar 2.0//EN
METHOD:PUBLISH
X-PUBLISHED-TTL:P3D
REFRESH-INTERVAL:P3D
CALSCALE:GREGORIAN
BEGIN:VEVENT
DTSTART;VALUE=DATE:20140217
DTEND;VALUE=DATE:20140218
TRANSP:TRANSPARENT
X-MICROSOFT-CDO-ALLDAYEVENT:TRUE
SUMMARY:President's Day - Chamber office closed
DESCRIPTION:Our office will be closed in observance of Martin Luther King Day.
X-ALT-DESC;FMTTYPE=text/html:Our office will be closed in observance of Martin Luther King Day. 
LOCATION:
UID:e.1819.160
SEQUENCE:3
DTSTAMP:20260424T155325Z
URL:https://members.lakeviewroscoevillage.org/events/details/president-s-day-chamber-office-closed-02-17-2014-160
END:VEVENT

END:VCALENDAR
