BEGIN:VCALENDAR
VERSION:2.0
PRODID:-//ChamberMaster//Event Calendar 2.0//EN
METHOD:PUBLISH
X-PUBLISHED-TTL:P3D
REFRESH-INTERVAL:P3D
CALSCALE:GREGORIAN
BEGIN:VEVENT
DTSTART:20130920T233000Z
DTEND:20130921T013000Z
X-MICROSOFT-CDO-ALLDAYEVENT:FALSE
SUMMARY:Pressbox Ribbon Cutting
DESCRIPTION:Join us to celebrate the opening of Pressbox with a ribbon cutting ceremony to mark the occasion. \n\n\n\nWho: The people who helped us get here\, and just anyone who loves dry cleaning\n\nWhy: Bring the dirtiest clothing item to the party and win $50 of free dry cleaning\n\n\n\nAfterwards\, head over to Heritage (across the street) for more festivities and good\, clean fun.
X-ALT-DESC;FMTTYPE=text/html:<strong><font color="#505050" face="Verdana">Join us to celebrate the opening of Pressbox with a ribbon cutting ceremony to mark the occasion. </font></strong><br />\n<br />\n<span style="color: rgb(80\, 80\, 80)\; font-family: &quot\;Verdana&quot\;\,&quot\;sans-serif&quot\;\; font-size: 8.5pt\; mso-fareast-font-family: Calibri\; mso-ansi-language: EN-US\; mso-fareast-language: EN-US\; mso-bidi-language: AR-SA\; mso-fareast-theme-font: minor-latin\; mso-bidi-font-family: Arial\;"><strong><span style="font-family: &quot\;Verdana&quot\;\,&quot\;sans-serif&quot\;\; mso-bidi-font-family: Arial\;">Who: </span></strong>The people who helped us get here\, and just anyone who loves dry cleaning<br />\n<strong><span style="font-family: &quot\;Verdana&quot\;\,&quot\;sans-serif&quot\;\; mso-bidi-font-family: Arial\;">Why</span></strong>: Bring the dirtiest clothing item to the party and win $50 of free dry cleaning<br />\n<br />\nAfterwards\, head over to Heritage (across the street) for more festivities and good\, clean fun.</span>
LOCATION:2936 North Lincoln Avenue
UID:e.1819.67
SEQUENCE:3
DTSTAMP:20260425T003840Z
URL:https://members.lakeviewroscoevillage.org/events/details/pressbox-ribbon-cutting-09-20-2013-67
END:VEVENT

END:VCALENDAR
