BEGIN:VCALENDAR
VERSION:2.0
PRODID:-//ChamberMaster//Event Calendar 2.0//EN
METHOD:PUBLISH
X-PUBLISHED-TTL:P3D
REFRESH-INTERVAL:P3D
CALSCALE:GREGORIAN
BEGIN:VEVENT
DTSTART:20160407T140000Z
DTEND:20160407T150000Z
X-MICROSOFT-CDO-ALLDAYEVENT:FALSE
SUMMARY:Property Tax Education Seminar
DESCRIPTION:Lakeview Business & Property Owners: In 2015\, all Chicago properties were reassessed for property tax purposes. Given the city's aggregate tax rate continues to rise\, making sure a property is valued correctly for tax purposes is crucial.\n\nYou have the ability to impact your property tax liability. For properties in Lakeview\, assessments will be mailed on April 4th and appeals must be filed within THIRTY DAYS at the Assessor's Office.  A second opportunity to appeal at the Board of Review will occur later in the year.\n\n\n\nOn April 7th\, the Lakeview Chamber of Commerce\, Lakeview East Chamber of Commerce and the Chicago Association of REALTORS  will present a property tax education seminar designed to equip owners with techniques to appeal their properties\, the type of information needed for a successful appeal\, and the timeline for appeals.
X-ALT-DESC;FMTTYPE=text/html:Lakeview Business &amp\; Property Owners: In 2015\, all Chicago properties were reassessed for property tax purposes. Given the city&rsquo\;s aggregate tax rate continues to rise\, making sure a property is valued correctly for tax purposes is crucial.<br />\nYou have the ability to impact your property tax liability. For properties in Lakeview\, assessments will be mailed on&nbsp\;April 4th&nbsp\;and appeals must be filed&nbsp\;within THIRTY DAYS&nbsp\;at the Assessor&#39\;s Office.&nbsp\; A second opportunity to appeal at the Board of Review will occur later in the year.<br />\n<br />\nOn April 7th\, the Lakeview Chamber of Commerce\, Lakeview East Chamber of Commerce and the Chicago Association of REALTORS&reg\; will present a property tax education seminar designed to equip owners with techniques to appeal their properties\, the type of information needed for a successful appeal\, and the timeline for appeals.
LOCATION:Northwestern Physicians Group 2nd Floor Conference Room 1333 W Belmont Ave
UID:e.1819.2854
SEQUENCE:3
DTSTAMP:20260422T132547Z
URL:https://members.lakeviewroscoevillage.org/events/details/property-tax-education-seminar-04-07-2016-2854
END:VEVENT

END:VCALENDAR
