BEGIN:VCALENDAR
VERSION:2.0
PRODID:-//ChamberMaster//Event Calendar 2.0//EN
METHOD:PUBLISH
X-PUBLISHED-TTL:P3D
REFRESH-INTERVAL:P3D
CALSCALE:GREGORIAN
BEGIN:VEVENT
DTSTART:20150409T150000Z
DTEND:20150409T160000Z
X-MICROSOFT-CDO-ALLDAYEVENT:FALSE
SUMMARY:Property Tax Education Seminar
DESCRIPTION:Lakeview Business & Property Owners: In 2015\, all Chicago properties will be reassessed for property tax purposes.  Given the city's aggregate tax rate continues to rise\, making sure a property is valued correctly for tax purposes is crucial.\n\nYou have the ability to impact your property tax liability. For properties in Lakeview\, assessments will be mailed on April 8th and appeals must be filed within THIRTY DAYS at the Assessor's Office.  A second opportunity to appeal at the Board of Review will occur later in the year.\n\nOn April 9th\, the Lakeview Chamber of Commerce\, Lakeview East Chamber of Commerce and the Chicago Association of REALTORS  will present a property tax education seminar designed to equip owners with techniques to appeal their properties\, the type of information needed for a successful appeal\, and the timeline for appeals.
X-ALT-DESC;FMTTYPE=text/html:<span style="color: rgb(34\, 34\, 34)\; font-family: arial\, sans-serif\; font-size: 12.8000001907349px\; line-height: normal\; text-align: center\;">Lakeview Business &amp\; Property Owners: In 2015\, all Chicago properties will be reassessed for property tax purposes.&nbsp\; Given the city&rsquo\;s aggregate tax rate continues to rise\, making sure a property is valued correctly for tax purposes is crucial.</span><br style="color: rgb(34\, 34\, 34)\; font-family: arial\, sans-serif\; font-size: 12.8000001907349px\; line-height: normal\; text-align: center\;" />\n<span style="color: rgb(34\, 34\, 34)\; font-family: arial\, sans-serif\; font-size: 12.8000001907349px\; line-height: normal\; text-align: center\;">You have the ability to impact your property tax liability. For properties in Lakeview\, assessments will be mailed on&nbsp\;</span><span data-term="goog_1613876520" style="color: rgb(34\, 34\, 34)\; font-family: arial\, sans-serif\; font-size: 12.8000001907349px\; line-height: normal\; text-align: center\;" tabindex="0">April 8th</span><span style="color: rgb(34\, 34\, 34)\; font-family: arial\, sans-serif\; font-size: 12.8000001907349px\; line-height: normal\; text-align: center\;">&nbsp\;and appeals must be filed within THIRTY DAYS at the Assessor&#39\;s Office.&nbsp\; A second opportunity to appeal at the Board of Review will occur later in the year.</span><br style="color: rgb(34\, 34\, 34)\; font-family: arial\, sans-serif\; font-size: 12.8000001907349px\; line-height: normal\; text-align: center\;" />\n<span style="color: rgb(34\, 34\, 34)\; font-family: arial\, sans-serif\; font-size: 12.8000001907349px\; line-height: normal\; text-align: center\;">On April 9</span><sup style="color: rgb(34\, 34\, 34)\; font-family: arial\, sans-serif\; line-height: normal\; text-align: center\;">th</sup><span style="color: rgb(34\, 34\, 34)\; font-family: arial\, sans-serif\; font-size: 12.8000001907349px\; line-height: normal\; text-align: center\;">\, the Lakeview Chamber of Commerce\, Lakeview East Chamber of Commerce and the Chicago Association of REALTORS&reg\; will present a property tax education seminar designed to equip owners with techniques to appeal their properties\, the type of information needed for a successful appeal\, and the timeline for appeals.</span>
LOCATION:Ann Sather | 909 W Belmont
UID:e.1819.1547
SEQUENCE:3
DTSTAMP:20260423T113418Z
URL:https://members.lakeviewroscoevillage.org/events/details/property-tax-education-seminar-04-09-2015-1547
END:VEVENT

END:VCALENDAR
