BEGIN:VCALENDAR
VERSION:2.0
PRODID:-//ChamberMaster//Event Calendar 2.0//EN
METHOD:PUBLISH
X-PUBLISHED-TTL:P3D
REFRESH-INTERVAL:P3D
CALSCALE:GREGORIAN
BEGIN:VEVENT
DTSTART:20131211T000000Z
DTEND:20131211T020000Z
X-MICROSOFT-CDO-ALLDAYEVENT:FALSE
SUMMARY:Public Meeting: Ashland Bus Rapid Transit
DESCRIPTION:Ashland Ave Bus Rapid Transit Public Meetings (2)\n\n	\n\n	December 10th 6pm-8pm | Benito Juarez Community Academy\, 1450 W. Cermak Rd.\n\n	December 11th 6pm-8pm | Pulaski Field House\, 1419 W. Blackhawk Street\n\n\nThe open house meetings are opportunities to learn more about the project and provide formal comments on the EA and Ashland Avenue BRT Project.\n\n\n\nMore information: www.transitchicago.com/AshlandBRT
X-ALT-DESC;FMTTYPE=text/html:<h4>\n	Ashland Ave Bus Rapid Transit&nbsp\;Public Meetings (2)<br />\n	<br />\n	<span style="color: rgb(105\, 105\, 105)\;">December 10th 6pm-8pm | <span style="font-family: arial\,helvetica neue\,helvetica\,sans-serif\;">Benito Juarez Community Academy\, 1450 W. Cermak Rd.</span><br />\n	December 11th 6pm-8pm | Pulaski Field House\, 1419 W. Blackhawk Street</span></h4>\n<br />\n<span style="font-size: 12px\;"><span style="font-family: &quot\;Arial&quot\;\,&quot\;sans-serif&quot\;\; mso-fareast-font-family: Calibri\; mso-ansi-language: EN-US\; mso-fareast-language: EN-US\; mso-bidi-language: AR-SA\; mso-fareast-theme-font: minor-latin\;">The open house meetings are opportunities to learn more about the project and provide formal comments on the EA and Ashland Avenue BRT Project.<br />\n<br />\nMore information: <font color="#000000"><span style="font-family: &quot\;Arial&quot\;\,&quot\;sans-serif&quot\;\; font-size: 10.5pt\; mso-fareast-font-family: Calibri\; mso-ansi-language: EN-US\; mso-fareast-language: EN-US\; mso-bidi-language: AR-SA\; mso-fareast-theme-font: minor-latin\;"><a href="http://click.icptrack.com/icp/relay.php?r=9309058&amp\;msgid=261018&amp\;act=TOOM&amp\;c=1144247&amp\;destination=http%3A%2F%2Fwww.transitchicago.com%2Fashlandbrt"><font color="#0000ff">www.transitchicago.com/AshlandBRT</font></a></span></font></span></span>
LOCATION:Benito Juarez Community Academy\, 1450 W. Cermak Road
UID:e.1819.127
SEQUENCE:3
DTSTAMP:20260424T190205Z
URL:https://members.lakeviewroscoevillage.org/events/details/public-meeting-ashland-bus-rapid-transit-12-10-2013-127
END:VEVENT

END:VCALENDAR
