BEGIN:VCALENDAR
VERSION:2.0
PRODID:-//ChamberMaster//Event Calendar 2.0//EN
METHOD:PUBLISH
X-PUBLISHED-TTL:P3D
REFRESH-INTERVAL:P3D
CALSCALE:GREGORIAN
BEGIN:VEVENT
DTSTART:20140111T170000Z
DTEND:20140111T190000Z
X-MICROSOFT-CDO-ALLDAYEVENT:FALSE
SUMMARY:Public Painting Party: MIMOSA MORNING (BYOB)!
DESCRIPTION:Join us for mimosas (you bring the Champagne\, we'll bring the OJ!) at our *BYOB* studio as we paint a piece by a local artist! Ticket price includes all paint supplies\, instruction\, aprons and a 10x10 take-home canvas!\n\n\n\nBYOB at 11:00am.\n\nPainting from 11:30-1:00pm.\n\n\n\nCancellations made within 48 hours are subject only to a credit. We are sorry but there will be no refunds on no-shows.\n\n\n\nBecause alcohol is present during our events\, we restrict attendance to adults 18 and over. Alcohol consumption is permitted only for adults over 21. Please have an ID available.\n\n\n\nWe look forward to seeing you soon!
X-ALT-DESC;FMTTYPE=text/html:Join us for mimosas (you bring the Champagne\, we&#39\;ll bring the OJ!) at our *BYOB* studio as we paint a piece by a local artist! Ticket price includes all paint supplies\, instruction\, aprons and a 10x10 take-home canvas!<br />\n<br />\nBYOB at 11:00am.<br />\nPainting from 11:30-1:00pm.<br />\n<br />\nCancellations made within 48 hours are subject only to a credit. We are sorry but there will be no refunds on no-shows.<br />\n<br />\nBecause alcohol is present during our events\, we restrict attendance to adults 18 and over. Alcohol consumption is permitted only for adults over 21. Please have an ID available.<br />\n<br />\nWe look forward to seeing you soon!
LOCATION:Bottle & Bottega- Lakeview Studio 2900 N Lincoln Ave Chicago\, IL 60657
UID:e.1819.166
SEQUENCE:3
DTSTAMP:20260424T191613Z
URL:https://members.lakeviewroscoevillage.org/events/details/public-painting-party-mimosa-morning-byob-01-11-2014-166
END:VEVENT

END:VCALENDAR
