BEGIN:VCALENDAR
VERSION:2.0
PRODID:-//ChamberMaster//Event Calendar 2.0//EN
METHOD:PUBLISH
X-PUBLISHED-TTL:P3D
REFRESH-INTERVAL:P3D
CALSCALE:GREGORIAN
BEGIN:VEVENT
DTSTART:20141025T170000Z
DTEND:20141025T200000Z
X-MICROSOFT-CDO-ALLDAYEVENT:FALSE
SUMMARY:Pumpkin Carving Party
DESCRIPTION:Join us at Schubas for a pumpkin carving!\n\n\n\nSPECIALS: $3 Shock Top Pumpkin Wheat\, $5 Shock Top + Cinnamon Rush
X-ALT-DESC;FMTTYPE=text/html:<span style="font-family: Arial\, Helvetica\, sans-serif\; font-size: 11px\; line-height: 16px\; text-align: justify\;">Join us at Schubas for a pumpkin carving!<br />\n<br />\nSPECIALS: $3 Shock Top Pumpkin Wheat\, $5 Shock Top + Cinnamon Rush</span>
LOCATION:Schubas 3159 N. Southport Chicago\, IL 60657
UID:e.1819.510
SEQUENCE:3
DTSTAMP:20260423T224917Z
URL:https://members.lakeviewroscoevillage.org/events/details/pumpkin-carving-party-10-25-2014-510
END:VEVENT

END:VCALENDAR
