BEGIN:VCALENDAR
VERSION:2.0
PRODID:-//ChamberMaster//Event Calendar 2.0//EN
METHOD:PUBLISH
X-PUBLISHED-TTL:P3D
REFRESH-INTERVAL:P3D
CALSCALE:GREGORIAN
BEGIN:VEVENT
DTSTART:20161017T230000Z
DTEND:20161027T010000Z
X-MICROSOFT-CDO-ALLDAYEVENT:FALSE
SUMMARY:Pumpkin Painting at Marianos!
DESCRIPTION:Join us at Mariano's locations throughout the North Side for unforgettable nights of pumpkin painting fun! Bring the family\, catch up with friends\, or make it a date night. Whatever inspires you to get inspired with us! \n\nTicket price includes tasty cider\, sweet pumpkin treats\, paint supplies\, use of aprons\, an expert artist\, and a take home pumpkin!\n\n\n\nView our October calendar & register online here ($25)
X-ALT-DESC;FMTTYPE=text/html:<p><span style="font-size:16px">Join us at Mariano&#39\;s locations throughout the North Side for unforgettable nights of pumpkin painting fun! Bring the family\, catch up with friends\, or make it a date night. Whatever inspires you to get inspired with us!&nbsp\;</span></p>\n\n<p><span style="font-size:16px">Ticket price includes tasty cider\, sweet pumpkin treats\,&nbsp\;paint supplies\, use of aprons\, an expert artist\, and a take home pumpkin!<br />\n<br />\n<a href="https://sites.cimplebox.com/events/calendar.aspx?s=3291&amp\;c=1650&amp\;month=10&amp\;year=2016&amp\;nav=1&amp\;r=0.1525016">View our October calendar &amp\; register online here ($25)</a></span></p>\n
LOCATION:Mariano's Lakeview East (10/17) Mariano's Edgewater (10/19) Mariano's Roscoe Village (10/25) Mariano's New City (10/26) 6:00 - 8:00 PM View our October calendar & register online here ($25)
UID:e.1819.3815
SEQUENCE:3
DTSTAMP:20260422T085326Z
URL:https://members.lakeviewroscoevillage.org/events/details/pumpkin-painting-at-marianos-10-17-2016-3815
END:VEVENT

END:VCALENDAR
