BEGIN:VCALENDAR
VERSION:2.0
PRODID:-//ChamberMaster//Event Calendar 2.0//EN
METHOD:PUBLISH
X-PUBLISHED-TTL:P3D
REFRESH-INTERVAL:P3D
CALSCALE:GREGORIAN
BEGIN:VEVENT
DTSTART:20170318T140000Z
DTEND:20170318T210000Z
X-MICROSOFT-CDO-ALLDAYEVENT:FALSE
SUMMARY:Quick Key Chicago First Year Anniversary
DESCRIPTION:You Make Us POP With Appreciation!\n\nQuick Key Locksmith turns 1 year! To celebrate\, we are giving 1 free Standard Key Copy per Customer with FREE POPCORN!
X-ALT-DESC;FMTTYPE=text/html:<div style="text-align:center"><u><strong>You Make Us POP With Appreciation!</strong></u><br />\nQuick Key Locksmith turns 1 year! To celebrate\, we are giving 1 free Standard Key Copy per Customer with FREE POPCORN!<br />\n<br />\n&nbsp\;</div>\n
LOCATION:1451 West Irving Park Road Chicago\, IL. 60613
UID:e.1819.5008
SEQUENCE:3
DTSTAMP:20260420T013252Z
URL:https://members.lakeviewroscoevillage.org/events/details/quick-key-chicago-first-year-anniversary-03-18-2017-5008
END:VEVENT

END:VCALENDAR
