BEGIN:VCALENDAR
VERSION:2.0
PRODID:-//ChamberMaster//Event Calendar 2.0//EN
METHOD:PUBLISH
X-PUBLISHED-TTL:P3D
REFRESH-INTERVAL:P3D
CALSCALE:GREGORIAN
BEGIN:VEVENT
DTSTART;VALUE=DATE:20140402
DTEND;VALUE=DATE:20140601
TRANSP:TRANSPARENT
X-MICROSOFT-CDO-ALLDAYEVENT:TRUE
SUMMARY:Rain Barrels- Info and Purchase
DESCRIPTION:The Metropolitan Water Reclamation District has rain barrels available for $58 (which includes an installation and delivery kit).\n\n\n\nThe City of Chicago also has a 50% rebate from the Sustainable Backyards Program. Click the  links to learn more.
X-ALT-DESC;FMTTYPE=text/html:<span style="color:#666666\;">The Metropolitan Water Reclamation District has <a href="http://r20.rs6.net/tn.jsp?e=001upl1WUCDGxKduDxWHUD9a1vuNODQGINUS9nJOVoaoMiUoNYJCCaJFr-fHR6YUY8ajpgRiumIMXV1VIhcEM0p8MVmh8lDgBof5U-CbKEc8U9szI5Y5rJqs6HHTKBZdhOv_LP25kDBBIiDmCpwXr2FbDEE2pfefG7qMv8XhqKQrDZFqqT7v9F2RVFEShbCbISiyRaOwD8PM6g_C42DLGjxilVbjmZStHIsqiUfzE92OE6klA9hWNslFalxUDknSGEPEx6rw8W79_Go36zyQQZtUkZVId-Qi0-J51SgHKRF96yrtj3cE95VYNwNdc76-rIu" linktype="1" shape="rect" target="_blank" track="on"><span style="color:#A08269\;">rain barrels available</span></a>&nbsp\;for $58 (which includes an installation and delivery kit).<br />\n<br />\nThe City of Chicago also has a 50% rebate from the&nbsp\;<a href="http://r20.rs6.net/tn.jsp?e=001upl1WUCDGxII4hxzexETZgqMeBILqAFOGf1lm0J8kVs30XJh_9ambUBcnnYzL9t8E7qi0u-9O9f8ILm-kY2hkh4k8MS-MwYfw_FUsQUazWPiBBwUniufxduIr8sE7dX1AcaNa74-AFyFu4dGZxiUdxeFwC-Nj8ctNYAV1G4JXhYiy3UAcE5QBdlqppShkTYnvYnOKdJs_WH4bykD9Gekane6GWKesI7TYJziBp69pyqBHlab8kG9T_UGBiQNAHCXsjXDsQHCM2TOZRVswJdGAq9R6x82Hxbx" linktype="1" shape="rect" target="_blank" track="on"><span style="color:#A08269\;">Sustainable Backyards Program</span></a>. Click the &nbsp\;links to learn more.</span>
LOCATION:
UID:e.1819.259
SEQUENCE:3
DTSTAMP:20260424T094832Z
URL:https://members.lakeviewroscoevillage.org/events/details/rain-barrels-info-and-purchase-04-02-2014-259
END:VEVENT

END:VCALENDAR
