BEGIN:VCALENDAR
VERSION:2.0
PRODID:-//ChamberMaster//Event Calendar 2.0//EN
METHOD:PUBLISH
X-PUBLISHED-TTL:P3D
REFRESH-INTERVAL:P3D
CALSCALE:GREGORIAN
BEGIN:VEVENT
DTSTART:20150325T000000Z
DTEND:20150325T020000Z
X-MICROSOFT-CDO-ALLDAYEVENT:FALSE
SUMMARY:Random Acts of Flowers - Chicago\, Floral Design Workshop
DESCRIPTION:Chicago\, IL.   On Tuesday\, March 24th at 7 p.m.\, Random Acts of Flowers (RAF) will have its first Floral Design Workshop\, hosted by Debi Lilly\, Chief Eventeur of A Perfect Event at her new unique event space\, DL Loft\, modeled after a Paris apartment. The workshop will focus on today's hottest floral trends for all types of events. Debi Lilly will then show attendees how to use these event trends to design the bouquets that will be delivered to hospitals and senior care facilities at RAF. \n\n\n\nAttendees will enjoy beverages and appetizers from Whole Foods and cupcakes from Swirlz. \n\n\n\nTickets are $50 and support RAF Chicago. They can be purchased online at \n\nhttp://chicago.randomactsofflowers.org/floral-design-event/
X-ALT-DESC;FMTTYPE=text/html:Chicago\, IL. &ndash\; On Tuesday\, March 24th at 7 p.m.\, Random Acts of Flowers (RAF) will&nbsp\;have its first Floral Design Workshop\, hosted by Debi Lilly\, Chief Eventeur of A Perfect&nbsp\;Event at her new unique event space\, DL Loft\, modeled after a Paris apartment.&nbsp\;The workshop will focus on today&rsquo\;s hottest floral trends for all types of events. Debi Lilly&nbsp\;will then show attendees how to use these event trends to design the bouquets that will&nbsp\;be delivered to hospitals and senior care facilities at RAF.&nbsp\;<br />\n<br />\nAttendees will enjoy beverages and appetizers from Whole Foods and cupcakes from&nbsp\;Swirlz.&nbsp\;<br />\n<br />\nTickets are $50 and support RAF Chicago. They can be purchased online at&nbsp\;<br />\nhttp://chicago.randomactsofflowers.org/floral-design-event/
LOCATION:DL Loft 3050 Lincoln Avenue Chicago\, IL 60657
UID:e.1819.1544
SEQUENCE:3
DTSTAMP:20260423T133108Z
URL:https://members.lakeviewroscoevillage.org/events/details/random-acts-of-flowers-chicago-floral-design-workshop-03-24-2015-1544
END:VEVENT

END:VCALENDAR
