BEGIN:VCALENDAR
VERSION:2.0
PRODID:-//ChamberMaster//Event Calendar 2.0//EN
METHOD:PUBLISH
X-PUBLISHED-TTL:P3D
REFRESH-INTERVAL:P3D
CALSCALE:GREGORIAN
BEGIN:VEVENT
DTSTART:20131213T013000Z
DTEND:20131213T033000Z
X-MICROSOFT-CDO-ALLDAYEVENT:FALSE
SUMMARY:Redeye Presents: Nat'l Lampoons Christmas Vacation
DESCRIPTION:Dust off that ugly sweater and join RedEye for one of the best Christmas movies made.\n\n\n	We'll be opening doors at 7:00PM and screening Nation Lampoons: A Christmas Vacation at 7:30PM\n\n	Ticket admission includes 1 complimentary Goose Island 10 Hills Pale Ale\n\n	Cash bar will also be available\n\n	Ugly Sweater Competition using hashtag #RedEyeXMas on Twitter & Instagram\n\n	1st Place Prize: $250\n\n	2nd Place Prize: $200\n\n	3rd Place Prize: $100\n\n	Don't have an ugly sweater? Visit Ragstock for the best ugly sweater one can find.\n\n	http://ragstock.com/
X-ALT-DESC;FMTTYPE=text/html:<p>\n	Dust off that ugly sweater and join RedEye for one of the best Christmas movies made.</p>\n<!-- /.blurb -->\n<p>\n	We&rsquo\;ll be opening doors at 7:00PM and screening Nation Lampoons: A Christmas Vacation at 7:30PM</p>\n<p>\n	Ticket admission includes 1 complimentary Goose Island 10 Hills Pale Ale<br />\n	Cash bar will also be available</p>\n<p>\n	Ugly Sweater Competition using hashtag #RedEyeXMas on Twitter &amp\; Instagram<br />\n	1st Place Prize: $250<br />\n	2nd Place Prize: $200<br />\n	3rd Place Prize: $100</p>\n<p>\n	Don&rsquo\;t have an ugly sweater? Visit Ragstock for the best ugly sweater one can find.<br />\n	<a href="http://ragstock.com/">http://ragstock.com/</a></p>\n
LOCATION:Music Box Theatre 3733 N Southport Ave Chicago\, IL 60613
UID:e.1819.147
SEQUENCE:3
DTSTAMP:20260424T191446Z
URL:https://members.lakeviewroscoevillage.org/events/details/redeye-presents-nat-l-lampoons-christmas-vacation-12-12-2013-147
END:VEVENT

END:VCALENDAR
