BEGIN:VCALENDAR
VERSION:2.0
PRODID:-//ChamberMaster//Event Calendar 2.0//EN
METHOD:PUBLISH
X-PUBLISHED-TTL:P3D
REFRESH-INTERVAL:P3D
CALSCALE:GREGORIAN
BEGIN:VEVENT
DTSTART:20140120T013000Z
DTEND:20140120T033000Z
X-MICROSOFT-CDO-ALLDAYEVENT:FALSE
SUMMARY:Restorative Yoga Workshop with Reiki
DESCRIPTION:Join us for a two hour restorative yoga class with Cindy Huston.\n\n\n\nStudents will hold traditional restorative yoga postures that improve circulation and digestion\, remove toxins\, and reduce muscle tension. Your body is supported with blankets\, blocks and cushions\, allowing you to gently stretch and relax.\n\n\n\nGentle meridian massage and hands on reiki will be offered while resting in the postures. Meridian massage supports movement and toning of the organs\, and reiki invites the body into an alpha theta state similar to meditation or falling asleep. Applied together\, yoga\, massage and reiki can relieve depression\, anxiety\, chronic and acute pain\, and boost the immune system.\n\n\n\nCindy is a Reiki Master and has a new CD available entitled "Restorative Yoga with Cindy Huston."
X-ALT-DESC;FMTTYPE=text/html:Join us for a two hour restorative yoga class with Cindy Huston.<br />\n<br />\nStudents will hold traditional restorative yoga postures that improve circulation and digestion\, remove toxins\, and reduce muscle tension. Your body is supported with blankets\, blocks and cushions\, allowing you to gently stretch and relax.<br />\n<br />\nGentle meridian massage and hands on reiki will be offered while resting in the postures. Meridian massage supports movement and toning of the organs\, and reiki invites the body into an alpha theta state similar to meditation or falling asleep. Applied together\, yoga\, massage and reiki can relieve depression\, anxiety\, chronic and acute pain\, and boost the immune system.<br />\n<br />\nCindy is a Reiki Master and has a new CD available entitled &ldquo\;Restorative Yoga with Cindy Huston.&rdquo\;
LOCATION:Ganesha Yoga 3113 N. Lincoln Ave Chicago\, IL 60657
UID:e.1819.148
SEQUENCE:3
DTSTAMP:20260424T185509Z
URL:https://members.lakeviewroscoevillage.org/events/details/restorative-yoga-workshop-with-reiki-01-19-2014-148
END:VEVENT

END:VCALENDAR
