BEGIN:VCALENDAR
VERSION:2.0
PRODID:-//ChamberMaster//Event Calendar 2.0//EN
METHOD:PUBLISH
X-PUBLISHED-TTL:P3D
REFRESH-INTERVAL:P3D
CALSCALE:GREGORIAN
BEGIN:VEVENT
DTSTART:20150929T210000Z
DTEND:20150929T223000Z
X-MICROSOFT-CDO-ALLDAYEVENT:FALSE
SUMMARY:Resume Writing & Interview Skills Workshop
DESCRIPTION:Chicago Public Library & Peer 2 Peer University Present:\n\nLEARNING CIRCLES\n\nMaster Interview Skills.\n\nTogether.\n\nIn the library.\n\nFor free.\n\n\n\nJoin a Learning Circle\, and complete an online course with others in the library\, for free. Courses open to all. The course will help you develop employment application materials\, hone your resume and help you develop an effective cover letter.
X-ALT-DESC;FMTTYPE=text/html:Chicago Public Library &amp\; Peer 2 Peer University Present:<br />\nLEARNING CIRCLES<br />\nMaster Interview Skills.<br />\nTogether.<br />\nIn the library.<br />\nFor free.<br />\n<br />\nJoin a Learning Circle\, and complete an online course with others in the library\, for free. Courses open to all. The course will help you develop employment application materials\, hone your resume and help you develop an effective cover letter.
LOCATION:Lincoln Belmont Branch\, Small Meeting Room 1659 W Melrose St\, Chicago\, IL 60657
UID:e.1819.1813
SEQUENCE:3
DTSTAMP:20260423T020512Z
URL:https://members.lakeviewroscoevillage.org/events/details/resume-writing-interview-skills-workshop-09-29-2015-1813
END:VEVENT

END:VCALENDAR
