BEGIN:VCALENDAR
VERSION:2.0
PRODID:-//ChamberMaster//Event Calendar 2.0//EN
METHOD:PUBLISH
X-PUBLISHED-TTL:P3D
REFRESH-INTERVAL:P3D
CALSCALE:GREGORIAN
BEGIN:VEVENT
DTSTART:20140610T203000Z
DTEND:20140610T210000Z
X-MICROSOFT-CDO-ALLDAYEVENT:FALSE
SUMMARY:Ribbon Cutting at Anthony's Italian Ice
DESCRIPTION:Please join us for a Ribbon Cutting to celebrate the grand re-opening of Anthony's Italian Ice to celebrate their new location at 3548 N. Southport Ave.\n\n\n\nSweet treats will be served!
X-ALT-DESC;FMTTYPE=text/html:Please join us for a Ribbon Cutting to celebrate the grand re-opening of Anthony&#39\;s Italian Ice to celebrate their new location at 3548 N. Southport Ave.<br />\n<br />\nSweet treats will be served!
LOCATION:New Location 3548 N. Southport Ave Chicago\, IL 60613
UID:e.1819.298
SEQUENCE:3
DTSTAMP:20260424T073948Z
URL:https://members.lakeviewroscoevillage.org/events/details/ribbon-cutting-at-anthony-s-italian-ice-06-10-2014-298
END:VEVENT

END:VCALENDAR
