BEGIN:VCALENDAR
VERSION:2.0
PRODID:-//ChamberMaster//Event Calendar 2.0//EN
METHOD:PUBLISH
X-PUBLISHED-TTL:P3D
REFRESH-INTERVAL:P3D
CALSCALE:GREGORIAN
BEGIN:VEVENT
DTSTART:20141205T150000Z
DTEND:20141205T160000Z
X-MICROSOFT-CDO-ALLDAYEVENT:FALSE
SUMMARY:Ribbon Cutting at Froyo Chicago
DESCRIPTION:Join us for a Ribbon Cutting to celebrate the grand opening of Froyo Chicago!\n\n \nFYC is proud to be the first self-serve frozen yogurt shop in Chicago offering organic flavors and toppings!  We are a family owned shop.  Our mission is simple: provide delicious products in the raw that are Non-GMO\, Fair Trade\, Organic\, and locally sourced\, where possible\, so that you can make your own creations that not only taste good\, but are good for you!
X-ALT-DESC;FMTTYPE=text/html:Join us for a Ribbon Cutting to celebrate the grand opening of Froyo Chicago!<br />\n&nbsp\;\n<p class="p1" style="box-sizing: border-box\; border: 0px\; font-family: 'Open Sans'\, Helvetica\, Arial\, sans-serif\; font-size: 14px\; margin: 0px 0px 16px\; outline: 0px\; padding: 0px\; vertical-align: baseline\; color: rgb(64\, 64\, 64)\; line-height: 19.6000003814697px\;">FYC is proud to be the first self-serve frozen yogurt shop in Chicago offering organic flavors and toppings!&nbsp\; We are a family owned shop.&nbsp\; Our mission is simple: provide delicious products in the raw that are Non-GMO\, Fair Trade\, Organic\, and locally sourced\, where possible\, so that you can make your own creations that not only taste good\, but are good for you!</p>\n
LOCATION:Froyo Chicago 3746 N Southport Ave Chicago\, IL 60613
UID:e.1819.723
SEQUENCE:3
DTSTAMP:20260423T191656Z
URL:https://members.lakeviewroscoevillage.org/events/details/ribbon-cutting-at-froyo-chicago-12-05-2014-723
END:VEVENT

END:VCALENDAR
