BEGIN:VCALENDAR
VERSION:2.0
PRODID:-//ChamberMaster//Event Calendar 2.0//EN
METHOD:PUBLISH
X-PUBLISHED-TTL:P3D
REFRESH-INTERVAL:P3D
CALSCALE:GREGORIAN
BEGIN:VEVENT
DTSTART:20140826T220000Z
DTEND:20140826T233000Z
X-MICROSOFT-CDO-ALLDAYEVENT:FALSE
SUMMARY:Ribbon Cutting & Grand Opening at Beermiscuous
DESCRIPTION:Join us for a Ribbon Cutting to celebrate the official grand opening of Beermiscuous! \n\nEnjoy complimentary tastings and fun! \n\n \nAbout Beermiscuous:\n\nWith new breweries opening almost every day\, consumers can easily get overwhelmed by this increasing selection of beer in every new and historical style imaginable (and many unimaginable). Making sense of this advancing revolution through unrestrained exploration in one of our craft beer caf s is the mission and definition of Beermiscuous.\n\nSo what is a craft beer caf ? Imagine \n\n\n	The relaxed atmosphere of your local coffee shop\n	The curated selection of your neighborhood wine store\n	The social engagement of your favorite Cheers-like watering hole\n\n\nNow mash (beer pun intended) these concepts together\, replace the other products with hundreds of beers on draft or in bottles and cans\, and you have a Beermiscuous caf . Relax\, explore and enjoy in the caf \, then take home a pick 6 of your favorites to hold you over until your next visit  tomorrow.\n\nBeermiscuous is obsessive about selling the freshest beer possible. In fact\, we target a selection of 250 beer varieties as opposed to the possible thousands to ensure the rapid rotation of our stock.\n\nOther ways we keep beer its freshest is to refrigerate everything the minute it hits our doors\, maintain optimal lighting conditions and use an inventory system that informs us when a beer should be pulled from the coolers. If you're not satisfied\, we'll make it right.\n\nENJOY IN THE CAF  AND AT HOME\n\nRelax and enjoy a few pours in the caf \, or take home several mix six favorites - or both.
X-ALT-DESC;FMTTYPE=text/html:<br />\n<span style="font-family:verdana\;"><span style="font-size:14px\;"><span style="font-size:16px\;">Join us for a Ribbon Cutting to celebrate the official grand opening of Beermiscuous!&nbsp\;<br />\nEnjoy complimentary tastings and fun!&nbsp\;</span></span></span><br />\n&nbsp\;\n<p style="margin: 0px 0px 16px\; padding: 0px\; border: 0px\; outline: 0px\; font-size: 14px\; vertical-align: baseline\; font-family: museo-sans\; line-height: 20px\; background-image: initial\; background-attachment: initial\; background-size: initial\; background-origin: initial\; background-clip: initial\; background-position: initial\; background-repeat: initial\;"><strong>About Beermiscuous:</strong><br />\nWith new breweries opening almost every day\, consumers can easily get overwhelmed by this increasing selection of beer in every new and historical style imaginable (and many unimaginable). Making sense of this advancing revolution through unrestrained exploration in one of our craft beer caf&eacute\;s is the mission and definition of Beermiscuous.</p>\n\n<p style="margin: 0px 0px 16px\; padding: 0px\; border: 0px\; outline: 0px\; font-size: 14px\; vertical-align: baseline\; font-family: museo-sans\; line-height: 20px\; background-image: initial\; background-attachment: initial\; background-size: initial\; background-origin: initial\; background-clip: initial\; background-position: initial\; background-repeat: initial\;">So what is a craft beer caf&eacute\;? Imagine&hellip\;</p>\n\n<ul style="margin: 0px 0px 16px 30px\; padding-right: 0px\; padding-left: 0px\; border: 0px\; outline: 0px\; font-size: 14px\; vertical-align: baseline\; font-family: museo-sans\; line-height: 20px\; background-image: initial\; background-attachment: initial\; background-size: initial\; background-origin: initial\; background-clip: initial\; background-position: initial\; background-repeat: initial\;">\n	<li style="margin: 0px\; padding: 0px\; border: 0px\; outline: 0px\; vertical-align: baseline\; background: transparent\;">The relaxed atmosphere of your local coffee shop</li>\n	<li style="margin: 0px\; padding: 0px\; border: 0px\; outline: 0px\; vertical-align: baseline\; background: transparent\;">The curated selection of your neighborhood wine store</li>\n	<li style="margin: 0px\; padding: 0px\; border: 0px\; outline: 0px\; vertical-align: baseline\; background: transparent\;">The social engagement of your favorite Cheers-like watering hole</li>\n</ul>\n\n<p style="margin: 0px 0px 16px\; padding: 0px\; border: 0px\; outline: 0px\; font-size: 14px\; vertical-align: baseline\; font-family: museo-sans\; line-height: 20px\; background-image: initial\; background-attachment: initial\; background-size: initial\; background-origin: initial\; background-clip: initial\; background-position: initial\; background-repeat: initial\;">Now mash (beer pun intended) these concepts together\, replace the other products with hundreds of beers on draft or in bottles and cans\, and you have a Beermiscuous caf&eacute\;. Relax\, explore and enjoy in the caf&eacute\;\, then take home a pick 6 of your favorites to hold you over until your next visit&hellip\; tomorrow.</p>\n\n<p style="margin: 0px 0px 16px\; padding: 0px\; border: 0px\; outline: 0px\; font-size: 14px\; vertical-align: baseline\; font-family: museo-sans\; line-height: 20px\; background-image: initial\; background-attachment: initial\; background-size: initial\; background-origin: initial\; background-clip: initial\; background-position: initial\; background-repeat: initial\;">Beermiscuous is obsessive about selling the freshest beer possible. In fact\, we target a selection of 250 beer varieties as opposed to the possible thousands to ensure the rapid rotation of our stock.</p>\n\n<p style="margin: 0px 0px 16px\; padding: 0px\; border: 0px\; outline: 0px\; font-size: 14px\; vertical-align: baseline\; font-family: museo-sans\; line-height: 20px\; background-image: initial\; background-attachment: initial\; background-size: initial\; background-origin: initial\; background-clip: initial\; background-position: initial\; background-repeat: initial\;">Other ways we keep beer its freshest is to refrigerate everything the minute it hits our doors\, maintain optimal lighting conditions and use an inventory system that informs us when a beer should be pulled from the coolers.&nbsp\;<strong style="margin: 0px\; padding: 0px\; border: 0px\; outline: 0px\; vertical-align: baseline\; background: transparent\;">If you&rsquo\;re not satisfied\, we&rsquo\;ll make it right.</strong></p>\n\n<p style="margin: 0px 0px 16px\; padding: 0px\; border: 0px\; outline: 0px\; font-size: 14px\; vertical-align: baseline\; font-family: museo-sans\; line-height: 20px\; background-image: initial\; background-attachment: initial\; background-size: initial\; background-origin: initial\; background-clip: initial\; background-position: initial\; background-repeat: initial\;"><strong style="margin: 0px\; padding: 0px\; border: 0px\; outline: 0px\; vertical-align: baseline\; background: transparent\;">ENJOY IN THE CAF&Eacute\; AND AT HOME</strong></p>\n\n<p style="margin: 0px 0px 16px\; padding: 0px\; border: 0px\; outline: 0px\; font-size: 14px\; vertical-align: baseline\; font-family: museo-sans\; line-height: 20px\; background-image: initial\; background-attachment: initial\; background-size: initial\; background-origin: initial\; background-clip: initial\; background-position: initial\; background-repeat: initial\;">Relax and enjoy a few pours in the caf&eacute\;\, or take home several mix six favorites - or both.</p>\n
LOCATION:Beermiscuous 2812 N. Lincoln Ave Chicago\, IL 60657
UID:e.1819.341
SEQUENCE:3
DTSTAMP:20260424T025624Z
URL:https://members.lakeviewroscoevillage.org/events/details/ribbon-cutting-grand-opening-at-beermiscuous-08-26-2014-341
END:VEVENT

END:VCALENDAR
