BEGIN:VCALENDAR
VERSION:2.0
PRODID:-//ChamberMaster//Event Calendar 2.0//EN
METHOD:PUBLISH
X-PUBLISHED-TTL:P3D
REFRESH-INTERVAL:P3D
CALSCALE:GREGORIAN
BEGIN:VEVENT
DTSTART:20131210T183000Z
DTEND:20131210T190000Z
X-MICROSOFT-CDO-ALLDAYEVENT:FALSE
SUMMARY:Ribbon Cutting & Grand Opening at Burger Boss
DESCRIPTION:Join us as we celebrate one of Lakeview's newest businesses\, Burger Boss Southport.\n\n\n\nWe'll kick off the festivities with a 12:30pm ribbon cutting.\n\n\n\nAfterwards Burger Boss will serve up FREE milkshakes with every burger + fries purchase\, so we hope you can stay for lunch!
X-ALT-DESC;FMTTYPE=text/html:Join us as we celebrate one of Lakeview&#39\;s newest businesses\, <a href="http://theburgerboss.com/">Burger Boss Southport</a>.<br />\n<br />\nWe&#39\;ll kick off the festivities with a 12:30pm ribbon cutting.<br />\n<br />\nAfterwards Burger Boss will serve up FREE milkshakes with every burger + fries purchase\, so we hope you can stay for lunch!
LOCATION:3208 N. Southport Chicago\, IL 60613
UID:e.1819.118
SEQUENCE:3
DTSTAMP:20260424T191026Z
URL:https://members.lakeviewroscoevillage.org/events/details/ribbon-cutting-grand-opening-at-burger-boss-12-10-2013-118
END:VEVENT

END:VCALENDAR
