BEGIN:VCALENDAR
VERSION:2.0
PRODID:-//ChamberMaster//Event Calendar 2.0//EN
METHOD:PUBLISH
X-PUBLISHED-TTL:P3D
REFRESH-INTERVAL:P3D
CALSCALE:GREGORIAN
BEGIN:VEVENT
DTSTART:20131206T153000Z
DTEND:20131206T163000Z
X-MICROSOFT-CDO-ALLDAYEVENT:FALSE
SUMMARY:Ribbon Cutting & Grand Opening at Sport Clips
DESCRIPTION:Join the Lakeview Chamber as we welcome Sport Clips to the community with a Ribbon Cutting ceremony. Free Haircut vouchers to all that attend (a $27 service value).
X-ALT-DESC;FMTTYPE=text/html:<span style="font-size: 12px\;"><span style="font-family: arial\;">Join the Lakeview Chamber as we welcome Sport Clips to the community with a Ribbon Cutting ceremony. <span new="" style="color: black\;" times="">Free Haircut&nbsp\;vouchers to all that attend (a $27 service value).</span></span></span>
LOCATION:3235 N. Ashland Avenue (across from XSport) Chicago\, IL 60613
UID:e.1819.122
SEQUENCE:3
DTSTAMP:20260424T192451Z
URL:https://members.lakeviewroscoevillage.org/events/details/ribbon-cutting-grand-opening-at-sport-clips-12-06-2013-122
END:VEVENT

END:VCALENDAR
