BEGIN:VCALENDAR
VERSION:2.0
PRODID:-//ChamberMaster//Event Calendar 2.0//EN
METHOD:PUBLISH
X-PUBLISHED-TTL:P3D
REFRESH-INTERVAL:P3D
CALSCALE:GREGORIAN
BEGIN:VEVENT
DTSTART:20140130T180000Z
DTEND:20140130T183000Z
X-MICROSOFT-CDO-ALLDAYEVENT:FALSE
SUMMARY:Ribbon Cutting & Grand Opening at UrbanMeadows Florist
DESCRIPTION:Join us for a ribbon cutting to help celebrate the grand opening of UrbanMeadows\, Chicago's only non-profit\, full-service florist.  \n\n\n\nLocated in the lobby of Buffett Place\, one of Chicago's newest and most exciting supportive housing communities. Buffett Place is an environmentally-friendly complete renovation of a vintage 1920s building in the Lakeview neighborhood of Chicago.\n\n\n\nJust like a flower\, people need nourishment to grow. UrbanMeadows is dedicated to helping through the power of a job. As a business outreach of Thresholds\, UrbanMeadows provides the highest quality product that creates beauty for both customer and employee.\n\n\n\nOur flowers\, floral arrangements and unique gifts are put together by our talented staff of floral professionals. We specialize in events\, weddings\, and flowers for any special occasion including birthdays\, anniversaries\, and more. Delivery throughout Chicago is available
X-ALT-DESC;FMTTYPE=text/html:Join us for a ribbon cutting to help celebrate the grand opening of UrbanMeadows\, Chicago&#39\;s only non-profit\, full-service florist.&nbsp\;&nbsp\;<br />\n<br />\nLocated in the lobby of Buffett Place\, one of Chicago&rsquo\;s newest and most exciting supportive housing communities. Buffett Place is an environmentally-friendly complete renovation of a vintage 1920s building in the Lakeview neighborhood of Chicago.<br />\n<br />\nJust like a flower\, people need nourishment to grow. UrbanMeadows is dedicated to helping through the power of a job. As a business outreach of Thresholds\, UrbanMeadows provides the highest quality product that creates beauty for both customer and employee.<br />\n<br />\nOur flowers\, floral arrangements and unique gifts are put together by our talented staff of floral professionals. We specialize in events\, weddings\, and flowers for any special occasion including birthdays\, anniversaries\, and more. Delivery throughout Chicago is available
LOCATION:Buffet Place Interior lobby 3208 N. Sheffield Ave Chicago\, IL 60657
UID:e.1819.182
SEQUENCE:3
DTSTAMP:20260424T173225Z
URL:https://members.lakeviewroscoevillage.org/events/details/ribbon-cutting-grand-opening-at-urbanmeadows-florist-01-30-2014-182
END:VEVENT

END:VCALENDAR
