BEGIN:VCALENDAR
VERSION:2.0
PRODID:-//ChamberMaster//Event Calendar 2.0//EN
METHOD:PUBLISH
X-PUBLISHED-TTL:P3D
REFRESH-INTERVAL:P3D
CALSCALE:GREGORIAN
BEGIN:VEVENT
DTSTART:20130822T211500Z
DTEND:20130822T214000Z
X-MICROSOFT-CDO-ALLDAYEVENT:FALSE
SUMMARY:Ribbon Cutting: Starbucks
DESCRIPTION:Hey Neighbor! Join us at our Grand Opening Celebration and see what our new\, larger space looks like.\n\n\n\n- Lakeview Chamber of Commerce Ribbon Cutting\n\n- Live Music\n\n- La Boulange Pastries\n\n- Clover Brewed Coffee Tastings
X-ALT-DESC;FMTTYPE=text/html:Hey Neighbor! Join us at our Grand Opening Celebration and see what our new\, larger space looks like.<br />\n<br />\n- Lakeview Chamber of Commerce Ribbon Cutting<br />\n- Live Music<br />\n- La Boulange Pastries<br />\n- Clover Brewed Coffee Tastings
LOCATION:New Store: 3400 N. Southport Avenue
UID:e.1819.50
SEQUENCE:3
DTSTAMP:20260425T023103Z
URL:https://members.lakeviewroscoevillage.org/events/details/ribbon-cutting-starbucks-08-22-2013-50
END:VEVENT

END:VCALENDAR
