BEGIN:VCALENDAR
VERSION:2.0
PRODID:-//ChamberMaster//Event Calendar 2.0//EN
METHOD:PUBLISH
X-PUBLISHED-TTL:P3D
REFRESH-INTERVAL:P3D
CALSCALE:GREGORIAN
BEGIN:VEVENT
DTSTART:20151023T230000Z
DTEND:20151024T020000Z
X-MICROSOFT-CDO-ALLDAYEVENT:FALSE
SUMMARY:Rock Star Karaoke Parent Survival Night
DESCRIPTION:Parents call it a break from the kids. Kids call it a break from their parents. That sounds like a win-win situation. Parents can enjoy a night off with The Little Gym of Chicago?s Parent Survival Night. Your little ones will enjoy an evening filled with music\, themed games and fun activities! Not only will the kids get moving on the gymnastics equipment\, they?re also treated to pizza and part of a movie to wind down the night. The Little Gym instructors will create a fun and safe environment for everyone to enjoy! This week's theme is Rock Star Karaoke! Grab the microphone and get your dance moves ready because we are going to have some Serious Rocking Fun!
X-ALT-DESC;FMTTYPE=text/html:Parents call it a break from the kids. Kids call it a break from their parents. That sounds like a win-win situation. Parents can enjoy a night off with The Little Gym of Chicago?s Parent Survival Night. Your little ones will enjoy an evening filled with music\, themed games and fun activities! Not only will the kids get moving on the gymnastics equipment\, they?re also treated to pizza and part of a movie to wind down the night. The Little Gym instructors will create a fun and safe environment for everyone to enjoy! This week&#39\;s theme is Rock Star Karaoke! Grab the microphone and get your dance moves ready because we are going to have some Serious Rocking Fun!
LOCATION:The Little Gym of Chicago
UID:e.1819.2023
SEQUENCE:3
DTSTAMP:20260423T003802Z
URL:https://members.lakeviewroscoevillage.org/events/details/rock-star-karaoke-parent-survival-night-10-23-2015-2023
END:VEVENT

END:VCALENDAR
