BEGIN:VCALENDAR
VERSION:2.0
PRODID:-//ChamberMaster//Event Calendar 2.0//EN
METHOD:PUBLISH
X-PUBLISHED-TTL:P3D
REFRESH-INTERVAL:P3D
CALSCALE:GREGORIAN
BEGIN:VEVENT
DTSTART:20170531T220000Z
DTEND:20170601T010000Z
X-MICROSOFT-CDO-ALLDAYEVENT:FALSE
SUMMARY:Rockit Burger Bar Venue Showcase
DESCRIPTION:Rockit Burger Bar will be hosting a venue showcase on Wednesday\, May 31! They host private parties of all types\, from corporate events and landmark birthday celebrations to dinner presentations\, fundraisers\, and karaoke parties. \n\nRSVP to Travis@RockItRanch.com
X-ALT-DESC;FMTTYPE=text/html:<p style="-webkit-font-smoothing: antialiased\; outline: none 0px\; -webkit-tap-highlight-color: transparent\; margin: 20px 0px 15px\; padding: 0px\; border: 0px\; font-variant-numeric: inherit\; font-stretch: inherit\; line-height: inherit\; font-family: &quot\;Helvetica Neue&quot\;\, HelveticaNeue\, Helvetica\, Arial\, sans-serif\; font-size: 14px\; vertical-align: baseline\; box-sizing: border-box\; color: rgb(68\, 68\, 68)\;">Rockit Burger Bar&nbsp\;will be hosting a venue showcase on Wednesday\, May 31! They host private parties of all types\, from corporate events and landmark birthday celebrations to dinner presentations\, fundraisers\, and karaoke parties.&nbsp\;</p>\n\n<p style="-webkit-font-smoothing: antialiased\; outline: none 0px\; -webkit-tap-highlight-color: transparent\; margin: 15px 0px 0px\; padding: 0px\; border: 0px\; font-variant-numeric: inherit\; font-stretch: inherit\; line-height: inherit\; font-family: &quot\;Helvetica Neue&quot\;\, HelveticaNeue\, Helvetica\, Arial\, sans-serif\; font-size: 14px\; vertical-align: baseline\; box-sizing: border-box\; color: rgb(68\, 68\, 68)\;">RSVP to&nbsp\;<a href="http://t.umblr.com/redirect?z=mailto%3ATravis%40RockItRanch.com&amp\;t=ZWFhNTY1NzQxMDU5MGU2MjkwOGE0MmM2ODM1YjBkZjY4YTNkZGY3YSx6ajRaa0c1YQ%3D%3D&amp\;b=t%3AjSj7HhFKjxwzpLAN4Z3Zxg&amp\;p=https%3A%2F%2Flakeviewchamber.tumblr.com%2Fpost%2F160740402936%2Fyoure-invited&amp\;m=1" style="-webkit-font-smoothing: antialiased\; outline: none 0px\; -webkit-tap-highlight-color: transparent\; margin: 0px\; padding: 0px 0px 0.15em\; border: 0px\; font-style: inherit\; font-variant: inherit\; font-weight: inherit\; font-stretch: inherit\; line-height: inherit\; font-family: inherit\; vertical-align: baseline\; color: inherit\; text-decoration-line: none\; box-sizing: border-box\; background-image: linear-gradient(rgba(68\, 68\, 68\, 0) 50%\, rgba(68\, 68\, 68\, 0.25) 0px)\; background-repeat: repeat-x\; background-size: 1em 2px\; background-position: 0px 1.15em\;" target="_blank">Travis@RockItRanch.com</a></p>\n
LOCATION:3700 N. Clark St Across from Wrigley Field
UID:e.1819.5164
SEQUENCE:3
DTSTAMP:20260419T201054Z
URL:https://members.lakeviewroscoevillage.org/events/details/rockit-burger-bar-venue-showcase-05-31-2017-5164
END:VEVENT

END:VCALENDAR
