BEGIN:VCALENDAR
VERSION:2.0
PRODID:-//ChamberMaster//Event Calendar 2.0//EN
METHOD:PUBLISH
X-PUBLISHED-TTL:P3D
REFRESH-INTERVAL:P3D
CALSCALE:GREGORIAN
BEGIN:VEVENT
DTSTART:20160807T120000Z
DTEND:20160807T140000Z
X-MICROSOFT-CDO-ALLDAYEVENT:FALSE
SUMMARY:Rosecrance Recovery 5K Walk/Run - Every Step Counts
DESCRIPTION:Rosecrance for the first time will host a 5K walk/run this summer that will be open to the public as the organization celebrates its 100th anniversary and works to promote healthy living in the community. The event celebrates recovery and Rosecrance's 100 years of changing lives. Proceeds will support Rosecrance programs and the families who seek treatment for substance abuse and mental health disorders.\n\nAll participants will receive a medal\, T-shirt\, goodie bag and refreshments at the end of the race. Awards also will be given to age group winners.\n\n Visit rosecrance.org/recovery5k to sign up and for more information. Contact Carlene Cardosi at ccardosi@rosecrance.org with questions. \n\n\n\nSponsorship opportunities for the Rosecrance Recovery 5K Walk/Run are still available. Levels of in-kind\, $500\, $1\,000 and $5\,000 have been established with a range of promotional benefits. Contact Anne Boccignone at 815-387-5636 or aboccignone@rosecrance.org for more details.
X-ALT-DESC;FMTTYPE=text/html:<p><span style="font-size:12px"><span style="font-family:arial\,helvetica\,sans-serif">Rosecrance for the first time will host a 5K walk/run this summer that will be open to the public as the organization celebrates its 100<sup>th</sup> anniversary and works to promote healthy living in the community. The event celebrates recovery and Rosecrance&rsquo\;s 100 years of changing lives. Proceeds will support Rosecrance programs and the families who seek treatment for substance abuse and mental health disorders.</span></span></p>\n\n<p><span style="font-size:12px"><span style="font-family:arial\,helvetica\,sans-serif">All participants will receive a medal\, T-shirt\, goodie bag and refreshments at the end of the race. Awards also will be given to age group winners.</span></span></p>\n\n<p><span style="font-size:12px"><span style="font-family:arial\,helvetica\,sans-serif">&nbsp\;</span></span><span style="font-size:12px"><span style="font-family:arial\,helvetica\,sans-serif">Visit rosecrance.org/recovery5k to sign up and for more information. Contact Carlene Cardosi at ccardosi@rosecrance.org with questions. </span></span><br />\n<br />\n<span style="font-size:12px"><span style="font-family:arial\,helvetica\,sans-serif">Sponsorship opportunities for the Rosecrance Recovery 5K Walk/Run are still available. Levels of in-kind\, $500\, $1\,000 and $5\,000 have been established with a range of promotional benefits. Contact Anne Boccignone at 815-387-5636 or aboccignone@rosecrance.org for more details.</span></span></p>\n\n<p>&nbsp\;</p>\n
LOCATION:Rosecrance Berry Campus 8616 Northern Ave. Rockford\, IL 61107
UID:e.1819.3305
SEQUENCE:3
DTSTAMP:20260422T062340Z
URL:https://members.lakeviewroscoevillage.org/events/details/rosecrance-recovery-5k-walk-run-every-step-counts-08-07-2016-3305
END:VEVENT

END:VCALENDAR
