BEGIN:VCALENDAR
VERSION:2.0
PRODID:-//ChamberMaster//Event Calendar 2.0//EN
METHOD:PUBLISH
X-PUBLISHED-TTL:P3D
REFRESH-INTERVAL:P3D
CALSCALE:GREGORIAN
BEGIN:VEVENT
DTSTART:20150506T000000Z
DTEND:20150506T020000Z
X-MICROSOFT-CDO-ALLDAYEVENT:FALSE
SUMMARY:Rosmis Realty Presents: Athleta Networking Event & Raffle
DESCRIPTION:Rob Rosmis Realty has teamed up with Athleta on Southport for one of the biggest events the Spring!\n\n\n\nhttps://www.eventbrite.com/e/athleta-networking-event-raffle-tickets-16551521045\n\n\n\nOn Tuesday\, May 5th\, come join us for FREE\, where all visitors can meet fellow community members\, and help promote local business.\n\n\n\nCome join to win over $1\,000 in Gift Certificates\, Athleta gear and MORE!\n\n\n\nEat\, Drink and Network.\n\n\n\nEveryone that attends will be given (1) FREE Raffle Ticket. Bring a guest and receive (1) additional Raffle Ticket*.\n\n\n\nWant a better chance to win for charity?\n\n\n\n$5 for 2 Tickets or $10 for 5 Tickets.  \n\n\n\nAll proceeds will be donated to Lakeview High School Athletics.\n\n\n\nPurchase additional Raffle Tickets below.\n\n\n\nhttps://www.eventbrite.com/e/athleta-networking-event-raffle-tickets-16551521045\n\n\n\nFood provided by local restaurants\, Drinks provided by 404 Wine Bar & Social Enjoyments\, and Athleta will be displaying their recent line of apparel!\n\n\n\nStay tuned for more updates because you will want to stay in the loop on this one!!!\n\n\n\nFor further information or an opportunity to sponsor\, contact Rob Rosmis at 773-999-9705.\n\n\n\n*Bring a guest and receive (1) additonal raffle ticket. One additonal ticket per person*\n\n\n\nhttps://www.eventbrite.com/e/athleta-networking-event-raffle-tickets-16551521045
X-ALT-DESC;FMTTYPE=text/html:<div>\n<div>\n<div>\n<div><span style="font-size:14px">Rob Rosmis Realty has teamed up with Athleta on Southport for one of the biggest events the Spring!<br />\n<br />\n<a href="https://www.eventbrite.com/e/athleta-networking-event-raffle-tickets-16551521045" rel="nofollow nofollow" style="color: rgb(59\, 89\, 152)\; cursor: pointer\; text-decoration: none\;" target="_blank">https://www.eventbrite.com/e/athleta-networking-event-raffle-tickets-16551521045</a><br />\n<br />\nOn Tuesday\, May 5th\, come join us for FREE\, where all visitors can meet fellow community members\, and help promote local business.<br />\n<br />\nCome join to win over $1\,000 in Gift Certificates\, Athleta gear and MORE!<br />\n<br />\nEat\, Drink and Network.<br />\n<br />\nEveryone that attends will be given (1) FREE Raffle Ticket. Bring a guest and receive (1) additional Raffle Ticket*.<br />\n<br />\nWant a better chance to win for charity?<br />\n<br />\n$5 for 2 Tickets or $10 for 5 Tickets.&nbsp\;&nbsp\;<br />\n<br />\nAll proceeds will be donated to Lakeview High School Athletics.<br />\n<br />\nPurchase additional Raffle Tickets below.<br />\n<br />\n<a href="https://www.eventbrite.com/e/athleta-networking-event-raffle-tickets-16551521045" rel="nofollow nofollow" style="color: rgb(59\, 89\, 152)\; cursor: pointer\; text-decoration: none\;" target="_blank">https://www.eventbrite.com/e/athleta-networking-event-raffle-tickets-16551521045</a><br />\n<br />\nFood provided by local restaurants\, Drinks provided by 404 Wine Bar &amp\; Social Enjoyments\, and Athleta will be displaying their recent line of apparel!<br />\n<br />\nStay tuned for more updates because you will want to stay in the loop on this one!!!<br />\n<br />\nFor further information or an opportunity to sponsor\, contact Rob Rosmis at 773-999-9705.<br />\n<br />\n*Bring a guest and receive (1) additonal raffle ticket. One additonal ticket per person*<br />\n<br />\n<a href="https://www.facebook.com/l.php?u=https%3A%2F%2Fwww.eventbrite.com%2Fe%2Fathleta-networking-event-raffle-tickets-16551521045&amp\;h=DAQHmpzpQ&amp\;enc=AZND13F3rYLUmdfv_MCz6lzu-4jkc1iXknnUewjvIsQXorg4Tt9WJHwytT0lDCncxNQ&amp\;s=1" rel="nofollow nofollow" style="color: rgb(59\, 89\, 152)\; cursor: pointer\; text-decoration: none\;" target="_blank">https://www.eventbrite.com/e/athleta-networking-event-raffle-tickets-16551521045</a></span></div>\n</div>\n\n<div>\n<div>&nbsp\;</div>\n</div>\n</div>\n</div>\n\n<div>&nbsp\;</div>\n\n<div>\n<div>\n<div>\n<div>&nbsp\;</div>\n</div>\n</div>\n</div>\n
LOCATION:3415 N. Southport Ave. Chicago\, IL 60657
UID:e.1819.1554
SEQUENCE:3
DTSTAMP:20260423T093218Z
URL:https://members.lakeviewroscoevillage.org/events/details/rosmis-realty-presents-athleta-networking-event-raffle-05-05-2015-1554
END:VEVENT

END:VCALENDAR
