BEGIN:VCALENDAR
VERSION:2.0
PRODID:-//ChamberMaster//Event Calendar 2.0//EN
METHOD:PUBLISH
X-PUBLISHED-TTL:P3D
REFRESH-INTERVAL:P3D
CALSCALE:GREGORIAN
BEGIN:VEVENT
DTSTART:20150218T003000Z
DTEND:20150218T023000Z
X-MICROSOFT-CDO-ALLDAYEVENT:FALSE
SUMMARY:ROSMIS REALTY & Southport Social Events
DESCRIPTION:Rob Rosmis Realty & Southport Social Events has teamed up with lulu lemon on Southport for one of the biggest events of the year!\n\n\n\nOn Tuesday\, February 17th\, come join us for FREE\, where all visitors can meet fellow community members\, and help promote local business.\n\nCome join to win over $500 in Gift Certificates\, lululemon gear and MORE!\n\nEat\, Drink and Network.=\n\nEveryone that registers online will be given (1) FREE Raffle Ticket.  \n\nBring a guest and receive (1) additional Raffle Ticket at the time of the event.*\n\nWant a better chance to win for charity?\n\n$5 for 2 Tickets or $10 for 5 Tickets.  \n\nAll proceeds will be donated to www.Charity4Life.org\n\n\n\nFood provided by Southport Grocery & Cafe\, Drinks provided by Social Enjoyments\, and lululemon displaying their recent line of apparel.\n\nStay tuned for more updates because you will want to stay in the loop on this one!!!\n\n\n\nFor further information or an opportunity to sponsor\, contact Rob Rosmis at\n\n773-999-9705.\n\n \n\n*Bring a guest and receive (1) additonal raffle ticket. One additonal ticket per person*
X-ALT-DESC;FMTTYPE=text/html:<p>Rob Rosmis Realty &amp\; Southport Social Events has teamed up with lulu lemon on Southport for one of the biggest events of the year!<br />\n<br />\nOn Tuesday\, February 17th\, come join us for FREE\, where all visitors can meet fellow community members\, and help promote local business.</p>\n\n<p>Come join to win over $500 in Gift Certificates\, lululemon gear and MORE!</p>\n\n<p>Eat\, Drink and Network.=</p>\n\n<p>Everyone that registers&nbsp\;<em><strong>online</strong></em>&nbsp\;will be given (1) FREE Raffle Ticket. &nbsp\;</p>\n\n<p>Bring a guest and receive (1) additional Raffle Ticket at the time of the event.*</p>\n\n<p>Want a better chance to win for charity?</p>\n\n<p>$5 for 2 Tickets&nbsp\;or&nbsp\;$10 for 5 Tickets. &nbsp\;</p>\n\n<p>All proceeds will be donated to&nbsp\;<a href="http://www.charity4life.org"><u>www.Charity4Life.org</u></a></p>\n\n<p><br />\nFood provided by Southport Grocery &amp\; Cafe\, Drinks provided by Social Enjoyments\, and lululemon displaying their recent line of apparel.</p>\n\n<p>Stay tuned for more updates because you will want to stay in the loop on this one!!!</p>\n\n<p><br />\nFor further information or an opportunity to sponsor\, contact Rob Rosmis at</p>\n\n<p>773-999-9705.</p>\n\n<p>&nbsp\;</p>\n\n<p>*Bring a guest and receive (1) additonal raffle ticket. One additonal ticket per person*</p>\n
LOCATION:lulu lemon - 3556 N. Southport Ave. Chicago\, IL 60657
UID:e.1819.1491
SEQUENCE:3
DTSTAMP:20260423T152319Z
URL:https://members.lakeviewroscoevillage.org/events/details/rosmis-realty-southport-social-events-02-17-2015-1491
END:VEVENT

END:VCALENDAR
