BEGIN:VCALENDAR
VERSION:2.0
PRODID:-//ChamberMaster//Event Calendar 2.0//EN
METHOD:PUBLISH
X-PUBLISHED-TTL:P3D
REFRESH-INTERVAL:P3D
CALSCALE:GREGORIAN
BEGIN:VEVENT
DTSTART:20160429T000000Z
DTEND:20160429T045500Z
X-MICROSOFT-CDO-ALLDAYEVENT:FALSE
SUMMARY:Rum Dinner at The Butcher's Tap
DESCRIPTION:Five-time Emmy winner Bailey Pryor is hosting a rum dinner at 7 p.m. Thursday\, April 28 at The Butcher's Tap! The dinner will include four courses\, each course paired with a rum cocktail made with "The Real McCoy Rum". There will be a seminar and rum tasting led by Pryor. All guests will receive a complimentary copy of the Emmy-winning documentary\, "The Real McCoy"\, the true story of rum runner Bill McCoy.
X-ALT-DESC;FMTTYPE=text/html:Five-time Emmy winner Bailey Pryor is hosting a rum dinner at 7 p.m. Thursday\, April 28 at The Butcher&#39\;s Tap! The dinner will include four courses\, each course paired with a rum cocktail made with &quot\;The Real McCoy Rum&quot\;. There will be a seminar and rum tasting led by Pryor. All guests will receive a complimentary copy of the Emmy-winning documentary\, &quot\;The Real McCoy&quot\;\, the true story of rum runner Bill McCoy.
LOCATION:The Butcher's Tap\, 3553 N Southport Ave\, Chicago\, IL 60657
UID:e.1819.2897
SEQUENCE:3
DTSTAMP:20260422T151610Z
URL:https://members.lakeviewroscoevillage.org/events/details/rum-dinner-at-the-butcher-s-tap-04-28-2016-2897
END:VEVENT

END:VCALENDAR
