BEGIN:VCALENDAR
VERSION:2.0
PRODID:-//ChamberMaster//Event Calendar 2.0//EN
METHOD:PUBLISH
X-PUBLISHED-TTL:P3D
REFRESH-INTERVAL:P3D
CALSCALE:GREGORIAN
BEGIN:VEVENT
DTSTART:20150418T130000Z
DTEND:20150418T170000Z
X-MICROSOFT-CDO-ALLDAYEVENT:FALSE
SUMMARY:Saint Andrew Children's Garage Sale
DESCRIPTION:Saint Andrew Parish is holding its 6th annual Children's Garage Sale on Sat. 4/18/15 from 8a-12noon! Find great deals on hundreds of gently used clothing (from infant to teens)\, shoes\, toys\, books\, sports gear\, outdoor play toys and maternity clothes. This one day sale is not to be missed! Unsold items will be donated to charity. All proceeds benefit Saint Andrew Parish.
X-ALT-DESC;FMTTYPE=text/html:Saint Andrew Parish is holding its 6th annual Children&#39\;s Garage Sale on Sat. 4/18/15 from 8a-12noon! Find great deals on hundreds of gently used clothing (from infant to teens)\, shoes\, toys\, books\, sports gear\, outdoor play toys and maternity clothes. This one day sale is not to be missed! Unsold items will be donated to charity. All proceeds benefit Saint Andrew Parish.
LOCATION:Saint Andrew School Gym\, Corner of Addison and Paulina
UID:e.1819.1545
SEQUENCE:3
DTSTAMP:20260423T114728Z
URL:https://members.lakeviewroscoevillage.org/events/details/saint-andrew-children-s-garage-sale-04-18-2015-1545
END:VEVENT

END:VCALENDAR
