BEGIN:VCALENDAR
VERSION:2.0
PRODID:-//ChamberMaster//Event Calendar 2.0//EN
METHOD:PUBLISH
X-PUBLISHED-TTL:P3D
REFRESH-INTERVAL:P3D
CALSCALE:GREGORIAN
BEGIN:VEVENT
DTSTART:20140412T153000Z
DTEND:20140412T193000Z
X-MICROSOFT-CDO-ALLDAYEVENT:FALSE
SUMMARY:Saint Andrew Parish Children's Garage Sale
DESCRIPTION:GREAT DEALS ON CHILDREN'S CLOTHES AND MORE AT SAINT ANDREW GARAGE SALE.\n\n\n\nSaint Andrew School is holding a Children?s Garage Sale on Saturday\, April 12\, 2014 in the Saint Andrew gym located at 1658 W. Addison in Chicago from 10:30a.m. - 2:30p.m.\n\n\n\nFor the last half hour\, all items 50% off and clothing priced $1 per bag!\n\n\n\nLooking for a deal on gently used children's items including infant to pre-teen clothes\, toys\, furniture\, baby gear\, and maternity clothes? This one day sale is not to be missed!\n\n\n\nAdmission is $1. All proceeds go to Saint Andrew. Cash only.
X-ALT-DESC;FMTTYPE=text/html:GREAT DEALS ON CHILDREN&#39\;S CLOTHES AND MORE AT SAINT ANDREW GARAGE SALE.<br />\n<br />\nSaint Andrew School is holding a Children?s Garage Sale on Saturday\, April 12\, 2014 in the Saint Andrew gym located at 1658 W. Addison in Chicago from 10:30a.m. - 2:30p.m.<br />\n<br />\nFor the last half hour\, all items 50% off and clothing priced $1 per bag!<br />\n<br />\nLooking for a deal on gently used children&#39\;s items including infant to pre-teen clothes\, toys\, furniture\, baby gear\, and maternity clothes? This one day sale is not to be missed!<br />\n<br />\nAdmission is $1. All proceeds go to Saint Andrew. Cash only.&nbsp\;<br />\n<br />\n&nbsp\;
LOCATION:Saint Andrew School Gym 1658 W. Addison Chicago\, IL 60613
UID:e.1819.251
SEQUENCE:3
DTSTAMP:20260424T135905Z
URL:https://members.lakeviewroscoevillage.org/events/details/saint-andrew-parish-children-s-garage-sale-04-12-2014-251
END:VEVENT

END:VCALENDAR
