BEGIN:VCALENDAR
VERSION:2.0
PRODID:-//ChamberMaster//Event Calendar 2.0//EN
METHOD:PUBLISH
X-PUBLISHED-TTL:P3D
REFRESH-INTERVAL:P3D
CALSCALE:GREGORIAN
BEGIN:VEVENT
DTSTART:20171001T130000Z
DTEND:20171001T180000Z
X-MICROSOFT-CDO-ALLDAYEVENT:FALSE
SUMMARY:Saint Andrew School Book & Bake Sale
DESCRIPTION:Thousands of gently used books\, audio books\, DVD's\, and Board Games. Delicious baked goods and coffee. Story Time for Kids in attendance. Raffles and Prizes.
X-ALT-DESC;FMTTYPE=text/html:Thousands of gently used books\, audio books\, DVD&#39\;s\, and Board Games. Delicious baked goods and coffee. Story Time for Kids in attendance. Raffles and Prizes.
LOCATION:Saint Andrew School Gym\, 1710 W. Addison Street. (Corner of Paulina and Addison)
UID:e.1819.11166
SEQUENCE:3
DTSTAMP:20260419T164512Z
URL:https://members.lakeviewroscoevillage.org/events/details/saint-andrew-school-book-bake-sale-10-01-2017-11166
END:VEVENT

END:VCALENDAR
