BEGIN:VCALENDAR
VERSION:2.0
PRODID:-//ChamberMaster//Event Calendar 2.0//EN
METHOD:PUBLISH
X-PUBLISHED-TTL:P3D
REFRESH-INTERVAL:P3D
CALSCALE:GREGORIAN
BEGIN:VEVENT
DTSTART:20141005T130000Z
DTEND:20141005T180000Z
X-MICROSOFT-CDO-ALLDAYEVENT:FALSE
SUMMARY:Saint Andrew Used Book & Bake Sale
DESCRIPTION:1000's of items to be sold! Paperbacks: $.25 or 5/$1.00 Hard cover: $1.00 each or 6/$5.00 Crafts\, Cupcake Decorating and more fun surprises...
X-ALT-DESC;FMTTYPE=text/html:1000&#39\;s of items to be sold! Paperbacks: $.25 or 5/$1.00 Hard cover: $1.00 each or 6/$5.00 Crafts\, Cupcake Decorating and more fun surprises...
LOCATION:Saint Andrew School Gym Corner of Addison & Paulina
UID:e.1819.495
SEQUENCE:3
DTSTAMP:20260423T224057Z
URL:https://members.lakeviewroscoevillage.org/events/details/saint-andrew-used-book-bake-sale-10-05-2014-495
END:VEVENT

END:VCALENDAR
