BEGIN:VCALENDAR
VERSION:2.0
PRODID:-//ChamberMaster//Event Calendar 2.0//EN
METHOD:PUBLISH
X-PUBLISHED-TTL:P3D
REFRESH-INTERVAL:P3D
CALSCALE:GREGORIAN
BEGIN:VEVENT
DTSTART:20161027T220000Z
DTEND:20161028T020000Z
X-MICROSOFT-CDO-ALLDAYEVENT:FALSE
SUMMARY:Salon Glow 4 Year Anniversary Party
DESCRIPTION:Salon Glow Chicago is Moving. Help them celebrate their 4 year anniversary at their new location\, 2766 N Lincoln Ave.\n\n\n\nEnjoy drinks\, appetizers\, raffles\, giveaways and discounts towards your next service!
X-ALT-DESC;FMTTYPE=text/html:Salon Glow Chicago is Moving. Help them celebrate their 4 year anniversary at their new location\, 2766 N Lincoln Ave.<br />\n<br />\nEnjoy drinks\, appetizers\, raffles\, giveaways and discounts towards your next service!
LOCATION:2766 N Lincoln Ave.
UID:e.1819.3823
SEQUENCE:3
DTSTAMP:20260422T085259Z
URL:https://members.lakeviewroscoevillage.org/events/details/salon-glow-4-year-anniversary-party-10-27-2016-3823
END:VEVENT

END:VCALENDAR
