BEGIN:VCALENDAR
VERSION:2.0
PRODID:-//ChamberMaster//Event Calendar 2.0//EN
METHOD:PUBLISH
X-PUBLISHED-TTL:P3D
REFRESH-INTERVAL:P3D
CALSCALE:GREGORIAN
BEGIN:VEVENT
DTSTART;VALUE=DATE:20160917
DTEND;VALUE=DATE:20160919
TRANSP:TRANSPARENT
X-MICROSOFT-CDO-ALLDAYEVENT:TRUE
SUMMARY:Sam Adams Lakeview Taco Fest
DESCRIPTION:Kick off the first official weekend of autumn with Sam Adams Lakeview Taco Fest! The glorious taco will again get the spotlight it has long deserved when the tortilla-wrapped fave is celebrated at this festival featuring great food and music\, craft beer and crowd-pleasing Mexican wrestlers. Sept. 17 & 18\, 11am - 10pm on Southport from Roscoe to Addison. More details at http://www.lakeviewtacofest.com.
X-ALT-DESC;FMTTYPE=text/html:<span style="color: rgb(0\, 0\, 0)\; font-family: arial\, sans-serif\; font-size: 12.8px\; line-height: normal\;">Kick off the first official weekend of autumn with Sam Adams Lakeview Taco Fest! The glorious taco will again get the spotlight it has long deserved when the tortilla-wrapped fave is celebrated at this festival featuring great food and music\, craft beer and crowd-pleasing Mexican wrestlers. Sept. 17 &amp\; 18\, 11am - 10pm on Southport from Roscoe to Addison. More details at&nbsp\;</span><a data-saferedirecturl="https://www.google.com/url?hl=en&amp\;q=http://www.lakeviewtacofest.com/&amp\;source=gmail&amp\;ust=1473953538047000&amp\;usg=AFQjCNEa-pVC0fnAWgtCvvI0kcGQnQoYig" href="http://www.lakeviewtacofest.com/" style="color: rgb(17\, 85\, 204)\; font-family: arial\, sans-serif\; font-size: 12.8px\; line-height: normal\;" target="_blank">http://www.<wbr />lakeviewtacofest.com</a><span style="color: rgb(0\, 0\, 0)\; font-family: arial\, sans-serif\; font-size: 12.8px\; line-height: normal\;">.</span>
LOCATION:Southport Avenue between Roscoe and Addison.
UID:e.1819.2283
SEQUENCE:3
DTSTAMP:20260422T062339Z
URL:https://members.lakeviewroscoevillage.org/events/details/sam-adams-lakeview-taco-fest-09-17-2016-2283
END:VEVENT

END:VCALENDAR
