BEGIN:VCALENDAR
VERSION:2.0
PRODID:-//ChamberMaster//Event Calendar 2.0//EN
METHOD:PUBLISH
X-PUBLISHED-TTL:P3D
REFRESH-INTERVAL:P3D
CALSCALE:GREGORIAN
BEGIN:VEVENT
DTSTART;VALUE=DATE:20150919
DTEND;VALUE=DATE:20150921
TRANSP:TRANSPARENT
X-MICROSOFT-CDO-ALLDAYEVENT:TRUE
SUMMARY:Sam Adams Lakeview Taco Fest
DESCRIPTION:Chicago's hottest new festival (trust us!) is back for its third year. The glorious taco will again get the spotlight it has long deserved when the tortilla-wrapped fave is celebrated at this food and music festival that also kicks off the first official weekend of autumn. \n\n\n\nWhether one prefers theirs with a hard or soft shell and filled with a meat\, chicken\, guacamole\, fish or other imaginative ingredients\, this September happening in the bustling Southport Corridor is a mega-hot addition to the Windy City's food fest scene. \n\n\n\nThere will also be special beer and taco pairings\, crowd-pleasing Mexican wrestlers\, and visitors will be able to text-to-vote for Chicago's "Best Taco." \n\n\n\nMore info. at http://www.lakeviewtacofest.com/
X-ALT-DESC;FMTTYPE=text/html:<span style="color: rgb(20\, 24\, 35)\; font-family: helvetica\, arial\, sans-serif\; font-size: 14px\; line-height: 18.7600002288818px\;">Chicago&#39\;s hottest new festival (trust us!) is back for its third year. The glorious taco will again get the spotlight it has long deserved when the tortilla-wrapped fave is celebrated at this food and music festival that also kicks off the first official weekend of autumn.&nbsp\;</span><br style="color: rgb(20\, 24\, 35)\; font-family: helvetica\, arial\, sans-serif\; font-size: 14px\; line-height: 18.7600002288818px\;" />\n<br style="color: rgb(20\, 24\, 35)\; font-family: helvetica\, arial\, sans-serif\; font-size: 14px\; line-height: 18.7600002288818px\;" />\n<span style="color: rgb(20\, 24\, 35)\; font-family: helvetica\, arial\, sans-serif\; font-size: 14px\; line-height: 18.7600002288818px\;">Whether one prefers theirs with a hard or soft shell and filled with a meat\, chicken\, guacamole\, fish or other imaginative ingredients\, this September happening in the bustling Southport Corridor is a mega-hot addition to the Windy City&#39\;s food fest scene.&nbsp\;</span><br style="color: rgb(20\, 24\, 35)\; font-family: helvetica\, arial\, sans-serif\; font-size: 14px\; line-height: 18.7600002288818px\;" />\n<br style="color: rgb(20\, 24\, 35)\; font-family: helvetica\, arial\, sans-serif\; font-size: 14px\; line-height: 18.7600002288818px\;" />\n<span style="color: rgb(20\, 24\, 35)\; font-family: helvetica\, arial\, sans-serif\; font-size: 14px\; line-height: 18.7600002288818px\;">There will also be special beer and taco pairings\, crowd-pleasing Mexican wrestlers\, and visitors will be able to text-to-vote for Chicago&#39\;s &quot\;Best Taco.&quot\;&nbsp\;</span><br style="color: rgb(20\, 24\, 35)\; font-family: helvetica\, arial\, sans-serif\; font-size: 14px\; line-height: 18.7600002288818px\;" />\n<br style="color: rgb(20\, 24\, 35)\; font-family: helvetica\, arial\, sans-serif\; font-size: 14px\; line-height: 18.7600002288818px\;" />\n<span style="color: rgb(20\, 24\, 35)\; font-family: helvetica\, arial\, sans-serif\; font-size: 14px\; line-height: 18.7600002288818px\;">More info. at&nbsp\;</span><a href="http://www.lakeviewtacofest.com/" rel="nofollow nofollow" style="color: rgb(59\, 89\, 152)\; cursor: pointer\; text-decoration: none\; font-family: helvetica\, arial\, sans-serif\; font-size: 14px\; line-height: 18.7600002288818px\;" target="_blank">http://<wbr />www.lakeviewtacofest.com/</a>
LOCATION:Southport Avenue\, between Roscoe & Addison
UID:e.1819.1806
SEQUENCE:3
DTSTAMP:20260423T040946Z
URL:https://members.lakeviewroscoevillage.org/events/details/sam-adams-lakeview-taco-fest-09-19-2015-1806
END:VEVENT

END:VCALENDAR
