BEGIN:VCALENDAR
VERSION:2.0
PRODID:-//ChamberMaster//Event Calendar 2.0//EN
METHOD:PUBLISH
X-PUBLISHED-TTL:P3D
REFRESH-INTERVAL:P3D
CALSCALE:GREGORIAN
BEGIN:VEVENT
DTSTART;VALUE=DATE:20140920
DTEND;VALUE=DATE:20140922
TRANSP:TRANSPARENT
X-MICROSOFT-CDO-ALLDAYEVENT:TRUE
SUMMARY:Sam Adams Taco Fest on Southport
DESCRIPTION:2nd Annual Sam Adams Taco Fest on Southport!\n\n	12 craft brews\n	10 taco vendors\n	Tons of live music\n	Luche Libre Wrestlers\n	10 kids activity stations\n\nFor more information visit: lakeviewtacofest.com\n\nFOOD VENDOR APPLICATION: download here\n\nMERCHANT VENDOR APPLICATION: download here
X-ALT-DESC;FMTTYPE=text/html:2nd Annual Sam Adams Taco Fest on Southport!\n<ul>\n	<li>12 craft brews</li>\n	<li>10 taco vendors</li>\n	<li>Tons of live music</li>\n	<li>Luche Libre Wrestlers</li>\n	<li>10 kids activity stations</li>\n</ul>\nFor more information visit: <a href="http://chicagoevents.com/event.cfm?eid=291">lakeviewtacofest.com</a><br />\nFOOD VENDOR APPLICATION:&nbsp\;<a href="http://cloud.chambermaster.com/userfiles/UserFiles/chambers/1819/File/2014FoodVendorTacoFestApplication.pdf">download here<br />\n<span style="color:#000000\;">M</span></a><span style="color:#000000\;">E</span>RCHANT VENDOR APPLICATION: <a href="http://cloud.chambermaster.com/userfiles/UserFiles/chambers/1819/File/2014TacoFestMerchantApplication.pdf">download here</a>
LOCATION:Southport Avenue between Addison and Roscoe Lakeview\, Chicago\, IL 60613
UID:e.1819.232
SEQUENCE:3
DTSTAMP:20260424T002712Z
URL:https://members.lakeviewroscoevillage.org/events/details/sam-adams-taco-fest-on-southport-09-20-2014-232
END:VEVENT

END:VCALENDAR
